BEGIN:VCALENDAR
VERSION:2.0
PRODID:-//Ajuntament de Xixona - ECPv6.15.15//NONSGML v1.0//EN
CALSCALE:GREGORIAN
METHOD:PUBLISH
X-ORIGINAL-URL:https://www.xixona.es
X-WR-CALDESC:Eventos para Ajuntament de Xixona
REFRESH-INTERVAL;VALUE=DURATION:PT1H
X-Robots-Tag:noindex
X-PUBLISHED-TTL:PT1H
BEGIN:VTIMEZONE
TZID:Europe/Madrid
BEGIN:DAYLIGHT
TZOFFSETFROM:+0100
TZOFFSETTO:+0200
TZNAME:CEST
DTSTART:20210328T010000
END:DAYLIGHT
BEGIN:STANDARD
TZOFFSETFROM:+0200
TZOFFSETTO:+0100
TZNAME:CET
DTSTART:20211031T010000
END:STANDARD
BEGIN:DAYLIGHT
TZOFFSETFROM:+0100
TZOFFSETTO:+0200
TZNAME:CEST
DTSTART:20220327T010000
END:DAYLIGHT
BEGIN:STANDARD
TZOFFSETFROM:+0200
TZOFFSETTO:+0100
TZNAME:CET
DTSTART:20221030T010000
END:STANDARD
BEGIN:DAYLIGHT
TZOFFSETFROM:+0100
TZOFFSETTO:+0200
TZNAME:CEST
DTSTART:20230326T010000
END:DAYLIGHT
BEGIN:STANDARD
TZOFFSETFROM:+0200
TZOFFSETTO:+0100
TZNAME:CET
DTSTART:20231029T010000
END:STANDARD
END:VTIMEZONE
BEGIN:VEVENT
DTSTART;TZID=Europe/Madrid:20220922T080000
DTEND;TZID=Europe/Madrid:20221002T170000
DTSTAMP:20260426T031621
CREATED:20220916T102642Z
LAST-MODIFIED:20220916T102642Z
UID:10000336-1663833600-1664730000@www.xixona.es
SUMMARY:Exposición "Descubriendo AFA a través del objetivo"
DESCRIPTION:Exposición fotográfica realizada por Érica Domenech que visibiliza el trabajo de la asociación AFA Xixona\, dentro de las actividades de la Semana del Alzheimer.
URL:https://www.xixona.es/event/exposicion-descubriendo-afa-a-traves-del-objetivo/
CATEGORIES:Exposición
END:VEVENT
BEGIN:VEVENT
DTSTART;TZID=Europe/Madrid:20221006T180000
DTEND;TZID=Europe/Madrid:20221023T210000
DTSTAMP:20260426T031621
CREATED:20220928T101248Z
LAST-MODIFIED:20220928T101248Z
UID:10000352-1665079200-1666558800@www.xixona.es
SUMMARY:Exposición #Primavera musical. La música valenciana reviscola
DESCRIPTION:Una exposición de la Universidad de Alicante que revisa las dos últimas décadas de la música valenciana (los grupos de música\, las canciones\, los artistas\, la literatura\, los festivales\, el ámbito familiar\, el vínculo con los estudiantes…). La exposición estará con nosotros del 6 al 23 de octubre en El Teatret\, y se podrá visitar de jueves sábado de 18.00 h a 21.00 h y domingos de 11.00 h a 13.00 h. \nLa inauguración será el 6 de octubre a las20.00 h y tendrá lugar una mesa redonda. \n 
URL:https://www.xixona.es/event/exposicion-primavera-musical-la-musica-valenciana-reviscola/
CATEGORIES:Exposición
ATTACH;FMTTYPE=image/jpeg:https://www.xixona.es/wp-content/uploads/2025/01/AXixona-PrimaveraMusical.-La-musica-valenciana-reviscola-02-001-scaled.jpg
END:VEVENT
END:VCALENDAR