BEGIN:VCALENDAR
VERSION:2.0
PRODID:-//Ajuntament de Xixona - ECPv6.15.15//NONSGML v1.0//EN
CALSCALE:GREGORIAN
METHOD:PUBLISH
X-WR-CALNAME:Ajuntament de Xixona
X-ORIGINAL-URL:https://www.xixona.es
X-WR-CALDESC:Eventos para Ajuntament de Xixona
REFRESH-INTERVAL;VALUE=DURATION:PT1H
X-Robots-Tag:noindex
X-PUBLISHED-TTL:PT1H
BEGIN:VTIMEZONE
TZID:Europe/Madrid
BEGIN:DAYLIGHT
TZOFFSETFROM:+0100
TZOFFSETTO:+0200
TZNAME:CEST
DTSTART:20220327T010000
END:DAYLIGHT
BEGIN:STANDARD
TZOFFSETFROM:+0200
TZOFFSETTO:+0100
TZNAME:CET
DTSTART:20221030T010000
END:STANDARD
BEGIN:DAYLIGHT
TZOFFSETFROM:+0100
TZOFFSETTO:+0200
TZNAME:CEST
DTSTART:20230326T010000
END:DAYLIGHT
BEGIN:STANDARD
TZOFFSETFROM:+0200
TZOFFSETTO:+0100
TZNAME:CET
DTSTART:20231029T010000
END:STANDARD
BEGIN:DAYLIGHT
TZOFFSETFROM:+0100
TZOFFSETTO:+0200
TZNAME:CEST
DTSTART:20240331T010000
END:DAYLIGHT
BEGIN:STANDARD
TZOFFSETFROM:+0200
TZOFFSETTO:+0100
TZNAME:CET
DTSTART:20241027T010000
END:STANDARD
END:VTIMEZONE
BEGIN:VEVENT
DTSTART;TZID=Europe/Madrid:20230322T173000
DTEND;TZID=Europe/Madrid:20230329T203000
DTSTAMP:20260425T204452
CREATED:20230310T081200Z
LAST-MODIFIED:20230310T081200Z
UID:10000454-1679506200-1680121800@www.xixona.es
SUMMARY:Exposición "No és color carn\, es color rosa clar"
DESCRIPTION:Exposición del alumnado del CPIP Eloy Coloma inspirada en la obra de la fotógrafa Angelica Dass Humanae\, un trabajo fotográfico que reflexiona sobre el color de la piel\, tratando de documentar los verdaderos colores de la humanidad en lugar de las falsas etiquetas como “blanco”\, “rojo”\, “negro” y “amarillo” asociadas a la raza y que se podrá ver del 22 al 29 de marzo\, de 17.30 h a 20.30 h en El Teatret. Todas las tardes (de lunes a viernes) se realizarán talleres a cargo del taller de empleo Acción Cultural Xixona 2023.
URL:https://www.xixona.es/event/exposicion-no-es-color-carn-es-color-rosa-clar/
CATEGORIES:Exposición
ATTACH;FMTTYPE=image/png:https://www.xixona.es/wp-content/uploads/2025/01/29.png
END:VEVENT
END:VCALENDAR