BEGIN:VCALENDAR
VERSION:2.0
PRODID:-//Ajuntament de Xixona - ECPv6.15.15//NONSGML v1.0//EN
CALSCALE:GREGORIAN
METHOD:PUBLISH
X-ORIGINAL-URL:https://www.xixona.es
X-WR-CALDESC:Eventos para Ajuntament de Xixona
REFRESH-INTERVAL;VALUE=DURATION:PT1H
X-Robots-Tag:noindex
X-PUBLISHED-TTL:PT1H
BEGIN:VTIMEZONE
TZID:Europe/Madrid
BEGIN:DAYLIGHT
TZOFFSETFROM:+0100
TZOFFSETTO:+0200
TZNAME:CEST
DTSTART:20220327T010000
END:DAYLIGHT
BEGIN:STANDARD
TZOFFSETFROM:+0200
TZOFFSETTO:+0100
TZNAME:CET
DTSTART:20221030T010000
END:STANDARD
BEGIN:DAYLIGHT
TZOFFSETFROM:+0100
TZOFFSETTO:+0200
TZNAME:CEST
DTSTART:20230326T010000
END:DAYLIGHT
BEGIN:STANDARD
TZOFFSETFROM:+0200
TZOFFSETTO:+0100
TZNAME:CET
DTSTART:20231029T010000
END:STANDARD
BEGIN:DAYLIGHT
TZOFFSETFROM:+0100
TZOFFSETTO:+0200
TZNAME:CEST
DTSTART:20240331T010000
END:DAYLIGHT
BEGIN:STANDARD
TZOFFSETFROM:+0200
TZOFFSETTO:+0100
TZNAME:CET
DTSTART:20241027T010000
END:STANDARD
END:VTIMEZONE
BEGIN:VEVENT
DTSTART;TZID=Europe/Madrid:20230714T190000
DTEND;TZID=Europe/Madrid:20230714T200000
DTSTAMP:20260425T164827
CREATED:20230706T104930Z
LAST-MODIFIED:20230706T104930Z
UID:10000568-1689361200-1689364800@www.xixona.es
SUMMARY:Música y juegos populares
DESCRIPTION:El 14 de julio\, a las 19.00 h\, en el parque del Cuernero\, los educandos de la colla Els Arreplegats de Xixona harán su audición de fin de curso. A demás habrá talleres y juegos populares a cargo del Taller de Empleo Acción Cultural Xixona.
URL:https://www.xixona.es/event/73810/
LOCATION:03-Alicante/Alacant
CATEGORIES:Actividad,Concierto
ATTACH;FMTTYPE=image/jpeg:https://www.xixona.es/wp-content/uploads/2025/01/Cartel-Colla-1.jpg
END:VEVENT
BEGIN:VEVENT
DTSTART;TZID=Europe/Madrid:20230714T200000
DTEND;TZID=Europe/Madrid:20230714T210000
DTSTAMP:20260425T164827
CREATED:20230706T104041Z
LAST-MODIFIED:20230706T104041Z
UID:10000566-1689364800-1689368400@www.xixona.es
SUMMARY:Teatro "Les coses de Gómez"
DESCRIPTION:Dentro de las actividades de la Semana Cultural de la Tercera Edad\, el viernes 14 de julio\, a las 20.00 h\, en el Cine de Dalt\, el grupo de teatro Els Teatrer’s representan el divertido sainete «Les coses de Gómez». El acceso al Cine de Dalt es gratuito y sin entrada.
URL:https://www.xixona.es/event/teatro-les-coses-de-gomez/
LOCATION:03-Alicante/Alacant
CATEGORIES:Teatro
ATTACH;FMTTYPE=image/jpeg:https://www.xixona.es/wp-content/uploads/2025/01/Les-coses-de-Gomez.jpg
END:VEVENT
BEGIN:VEVENT
DTSTART;TZID=Europe/Madrid:20230715T213000
DTEND;TZID=Europe/Madrid:20230715T233000
DTSTAMP:20260425T164827
CREATED:20230706T105707Z
LAST-MODIFIED:20230706T105707Z
UID:10000570-1689456600-1689463800@www.xixona.es
SUMMARY:Proclamación de Capitanías 2023
DESCRIPTION:El sábado 15 de julio\, a las 21.30 h\, en el Barranc de la Font\, la Federación de Fiestas celebra la elección de los Festers de l’Any y la Proclamación de Capitanías 2023. En el mismo acto también se dará la batuta de plata a la persona que dirigirá el himno de fiestas este año. Todo el acto estará amenizado por la Unió Musical de Xixona.
URL:https://www.xixona.es/event/proclamacion-de-capitanias-2023/
LOCATION:03-Alicante/Alacant
CATEGORIES:Actividad
END:VEVENT
BEGIN:VEVENT
DTSTART;TZID=Europe/Madrid:20230715T213000
DTEND;TZID=Europe/Madrid:20230715T233000
DTSTAMP:20260425T164827
CREATED:20230707T044148Z
LAST-MODIFIED:20230707T044148Z
UID:10000572-1689456600-1689463800@www.xixona.es
SUMMARY:Proclamación de cargos festeros 2023
DESCRIPTION:El sábado 15 de julio\, a las 21.30 h\, en el Barranc de la Font\, organizado por la Federació de Sant Bartomeu i Sant Sebastià\, tendrá lugar la Proclamación de Cargos Festeros 2023\, un acto oficial donde se proclamarán las Capitanías 2023\, se elegirán los Festeros y Festeras del Año y se librará la batuta de plata a la directora que dirigirá el himno de fiestas después de la presentación de bandas.
URL:https://www.xixona.es/event/proclamacion-de-capitanias-2023-2/
LOCATION:03-Alicante/Alacant
CATEGORIES:Actividad
ATTACH;FMTTYPE=image/jpeg:https://www.xixona.es/wp-content/uploads/2025/01/Proclamacio-1.jpg
END:VEVENT
BEGIN:VEVENT
DTSTART;TZID=Europe/Madrid:20230716T100000
DTEND;TZID=Europe/Madrid:20230716T130000
DTSTAMP:20260425T164827
CREATED:20230707T051108Z
LAST-MODIFIED:20230707T051108Z
UID:10000573-1689501600-1689512400@www.xixona.es
SUMMARY:Maratón de aquagym
DESCRIPTION:El domingo 16 de julio en el polideportivo municipal de 10.00 h a 13.00 h.
URL:https://www.xixona.es/event/maraton-de-aquagym/
LOCATION:03-Alicante/Alacant
CATEGORIES:Actividad
ATTACH;FMTTYPE=image/jpeg:https://www.xixona.es/wp-content/uploads/2025/01/Marato-AIGUAGIM-estiu-2023.jpg
END:VEVENT
BEGIN:VEVENT
DTSTART;TZID=Europe/Madrid:20230718T200000
DTEND;TZID=Europe/Madrid:20230718T210000
DTSTAMP:20260425T164827
CREATED:20230707T051746Z
LAST-MODIFIED:20230707T051746Z
UID:10000575-1689710400-1689714000@www.xixona.es
SUMMARY:Contes a la fresca
DESCRIPTION:Os esperamos en la tercera edición de «Contes a la fresca» el martes 18 de julio\, a las 20.00 h\, en la plaça de l’Església Vella.
URL:https://www.xixona.es/event/contes-a-fresca/
LOCATION:03-Alicante/Alacant
CATEGORIES:Actividad
ATTACH;FMTTYPE=image/png:https://www.xixona.es/wp-content/uploads/2025/01/Cartell-A4_Titeres_180723.png
END:VEVENT
BEGIN:VEVENT
DTSTART;TZID=Europe/Madrid:20230721T193000
DTEND;TZID=Europe/Madrid:20230722T193000
DTSTAMP:20260425T164827
CREATED:20230707T055012Z
LAST-MODIFIED:20230707T055012Z
UID:10000579-1689967800-1690054200@www.xixona.es
SUMMARY:Presentación de "El Programa" y Senyal
DESCRIPTION:La presentación de El Programa de las Fiestas de Moros y Cristianos 2023 tendrá lugar el viernes 21 de julio\, a las 19.30 h\, en El Teatret y el sábado 22 celebraremos La Senyal.
URL:https://www.xixona.es/event/presentacion-de-el-programa/
LOCATION:03-Alicante/Alacant
CATEGORIES:Actividad
END:VEVENT
BEGIN:VEVENT
DTSTART;TZID=Europe/Madrid:20230723T210000
DTEND;TZID=Europe/Madrid:20230729T220000
DTSTAMP:20260425T164827
CREATED:20230707T052925Z
LAST-MODIFIED:20230707T052925Z
UID:10000577-1690146000-1690668000@www.xixona.es
SUMMARY:V Festival Internacional de Trompeta de Xixona 2023
DESCRIPTION:Del 23 al 29 de julio se celebra en el Barranc de la Font el V Festival de Trompeta de Xixona 2023. Los conciertos tendrán lugar a las 21.00 h\, excepto el concierto del viernes 29 de julio\, con la Agrupación Artísticomusical El Trabajo de Xixona\, que será a las 21.30 h.
URL:https://www.xixona.es/event/festival-internacional-de-trompeta-de-xixona-2023/
LOCATION:03-Alicante/Alacant
CATEGORIES:Concierto
ATTACH;FMTTYPE=image/jpeg:https://www.xixona.es/wp-content/uploads/2025/01/cast-CARTEL-CONCIERTOS-V-FIT-XIXONA-scaled.jpg
END:VEVENT
BEGIN:VEVENT
DTSTART;TZID=Europe/Madrid:20230728T163000
DTEND;TZID=Europe/Madrid:20230728T203000
DTSTAMP:20260425T164827
CREATED:20230720T072907Z
LAST-MODIFIED:20230720T072907Z
UID:10000586-1690561800-1690576200@www.xixona.es
SUMMARY:Donación de sangre
DESCRIPTION:La Federació Sant Bartomeu i Sant Sebastià colabora con el Centro de Transfusión de la Comunitat Valenciana en esta campaña de donación de sangre. \nParticipa tú también\, ¡¡ ven a donar sangre y salva vidas !! \nViernes 28 de julio de 16.30h a 20.30h en la Sociedad Cultural El Trabajo de Jijona (Av. Constitución\, 19)
URL:https://www.xixona.es/event/donacion-de-sangre-5-2/
LOCATION:03-Alicante/Alacant
CATEGORIES:Actividad
ATTACH;FMTTYPE=image/jpeg:https://www.xixona.es/wp-content/uploads/2025/01/donacion_sangre_28_julio_2023_ok.jpg
END:VEVENT
BEGIN:VEVENT
DTSTART;TZID=Europe/Madrid:20230729T090000
DTEND;TZID=Europe/Madrid:20230729T233000
DTSTAMP:20260425T164827
CREATED:20230707T060034Z
LAST-MODIFIED:20230707T060034Z
UID:10000581-1690621200-1690673400@www.xixona.es
SUMMARY:Correfoc y concierto
DESCRIPTION:El sábado 29 tendremos todo un día de actos festeros. Por la mañana se celebrará el campeonato de petanca de filaes en el polideportivo\, por la tarde será el encuentro de collas que inundarán de música las calles y por la noche tendrá lugar el correfoc\, que terminará en el Barranc de la Font con el concierto de Niuss y Tenda.
URL:https://www.xixona.es/event/correfoc-y-concierto/
LOCATION:03-Alicante/Alacant
CATEGORIES:Actividad
END:VEVENT
BEGIN:VEVENT
DTSTART;TZID=Europe/Madrid:20230804T220000
DTEND;TZID=Europe/Madrid:20230804T233000
DTSTAMP:20260425T164827
CREATED:20230724T074935Z
LAST-MODIFIED:20230724T074935Z
UID:10000587-1691186400-1691191800@www.xixona.es
SUMMARY:Cine a la fresca
DESCRIPTION:
URL:https://www.xixona.es/event/cine-a-la-fresca/2023-08-04/
LOCATION:03-Alicante/Alacant
CATEGORIES:Actividad
ATTACH;FMTTYPE=image/jpeg:https://www.xixona.es/wp-content/uploads/2025/01/Cartell_cine.jpg
END:VEVENT
BEGIN:VEVENT
DTSTART;TZID=Europe/Madrid:20230806T203000
DTEND;TZID=Europe/Madrid:20230806T220000
DTSTAMP:20260425T164827
CREATED:20230724T075332Z
LAST-MODIFIED:20230724T075332Z
UID:10000591-1691353800-1691359200@www.xixona.es
SUMMARY:Festirock
DESCRIPTION:El festival de clausura de la Escola de Rock Mugroman 2023 tendrá lugar el domingo 6 de agosto a partir de les 20.30 h en el Barranc de la Font.
URL:https://www.xixona.es/event/festirock-2/
LOCATION:03-Alicante/Alacant
CATEGORIES:Concierto
ATTACH;FMTTYPE=image/jpeg:https://www.xixona.es/wp-content/uploads/2025/01/FESTIROCK.jpg
END:VEVENT
BEGIN:VEVENT
DTSTART;TZID=Europe/Madrid:20230811T223000
DTEND;TZID=Europe/Madrid:20230811T233000
DTSTAMP:20260425T164827
CREATED:20230724T080131Z
LAST-MODIFIED:20230724T080131Z
UID:10000592-1691793000-1691796600@www.xixona.es
SUMMARY:Concierto Gira 20 Aniversari de Mugroman
DESCRIPTION:
URL:https://www.xixona.es/event/concierto-gira-20-aniversari-de-mugroman/
LOCATION:03-Alicante/Alacant
CATEGORIES:Concierto
ATTACH;FMTTYPE=image/jpeg:https://www.xixona.es/wp-content/uploads/2025/01/CARTELL-MUGROMAN-20-ANIVERSARI-1-001.jpg
END:VEVENT
BEGIN:VEVENT
DTSTART;TZID=Europe/Madrid:20230813T213000
DTEND;TZID=Europe/Madrid:20230813T223000
DTSTAMP:20260425T164827
CREATED:20230724T084713Z
LAST-MODIFIED:20230724T084713Z
UID:10000594-1691962200-1691965800@www.xixona.es
SUMMARY:"El show de Coco y Pepe" de Cantajuego
DESCRIPTION:
URL:https://www.xixona.es/event/el-show-de-coco-y-pepe-de-cantajuego/
LOCATION:03-Alicante/Alacant
CATEGORIES:Concierto
ATTACH;FMTTYPE=image/jpeg:https://www.xixona.es/wp-content/uploads/2025/01/Show-de-Coco-y-Pepe-Xixona-A3.jpg
END:VEVENT
BEGIN:VEVENT
DTSTART;TZID=Europe/Madrid:20230814T110000
DTEND;TZID=Europe/Madrid:20230814T130000
DTSTAMP:20260425T164827
CREATED:20230804T070920Z
LAST-MODIFIED:20230804T070920Z
UID:10000602-1692010800-1692018000@www.xixona.es
SUMMARY:"Nanos i gegants"
DESCRIPTION:Lunes\, 14 /11h (niños/as\, salida Retén Policia) \nMiércoles\, 16 / 11 h (niños/as) \n Jueves\, 17 / 11 h (Moros Vermells) \nEixida des de l’Ajuntament \n(Avinguda Constitució\, 6) \nImportante: Las niñas y niños interesados en participar el lunes 14 de agosto y el miércoles 16 de agosto deberán de inscribirse a partir del 8 de agosto en el Ayuntamiento de Jijona (Avenida Constitución\, 6) en horario de 9 h a 14 h. \nCartel nanosGegants2023
URL:https://www.xixona.es/event/nanos-i-gegants/2023-08-14/
LOCATION:03-Alicante/Alacant
CATEGORIES:Actividad
END:VEVENT
BEGIN:VEVENT
DTSTART;TZID=Europe/Madrid:20230814T223000
DTEND;TZID=Europe/Madrid:20230814T233000
DTSTAMP:20260425T164827
CREATED:20230724T085240Z
LAST-MODIFIED:20230724T085240Z
UID:10000597-1692052200-1692055800@www.xixona.es
SUMMARY:"30 anys fent el moniato!" de Pot de Plom Teatre
DESCRIPTION:
URL:https://www.xixona.es/event/30-anys-fent-el-moniato-de-pot-de-plom-teatre-2/
LOCATION:03-Alicante/Alacant
CATEGORIES:Monólogo
ATTACH;FMTTYPE=image/jpeg:https://www.xixona.es/wp-content/uploads/2025/01/Cartell_Xavi_Castillo.jpg
END:VEVENT
BEGIN:VEVENT
DTSTART;TZID=Europe/Madrid:20230815T110000
DTEND;TZID=Europe/Madrid:20230815T140000
DTSTAMP:20260425T164827
CREATED:20230724T085544Z
LAST-MODIFIED:20230724T085544Z
UID:10000599-1692097200-1692108000@www.xixona.es
SUMMARY:Juegos de agua
DESCRIPTION:
URL:https://www.xixona.es/event/juegos-de-agua/
LOCATION:03-Alicante/Alacant
CATEGORIES:Actividad
ATTACH;FMTTYPE=image/jpeg:https://www.xixona.es/wp-content/uploads/2025/01/Carrtell_Jocs_daigua.jpg
END:VEVENT
BEGIN:VEVENT
DTSTART;TZID=Europe/Madrid:20230815T203000
DTEND;TZID=Europe/Madrid:20230815T233000
DTSTAMP:20260425T164827
CREATED:20230724T090415Z
LAST-MODIFIED:20230724T090415Z
UID:10000601-1692131400-1692142200@www.xixona.es
SUMMARY:Concierto de Fiestas con la Agrupación Artísticomusical El Trabajo de Xixona
DESCRIPTION:
URL:https://www.xixona.es/event/concert-de-festes-amb-lagrupacio-artisticomusical-el-trabajo-de-xixona-2/
LOCATION:03-Alicante/Alacant
CATEGORIES:Concierto
ATTACH;FMTTYPE=image/png:https://www.xixona.es/wp-content/uploads/2025/01/Concert-de-festes_1.png
END:VEVENT
BEGIN:VEVENT
DTSTART;TZID=Europe/Madrid:20230816T110000
DTEND;TZID=Europe/Madrid:20230816T130000
DTSTAMP:20260425T164827
CREATED:20230804T070920Z
LAST-MODIFIED:20230804T070920Z
UID:10000603-1692183600-1692190800@www.xixona.es
SUMMARY:"Nanos i gegants"
DESCRIPTION:Lunes\, 14 /11h (niños/as\, salida Retén Policia) \nMiércoles\, 16 / 11 h (niños/as) \n Jueves\, 17 / 11 h (Moros Vermells) \nEixida des de l’Ajuntament \n(Avinguda Constitució\, 6) \nImportante: Las niñas y niños interesados en participar el lunes 14 de agosto y el miércoles 16 de agosto deberán de inscribirse a partir del 8 de agosto en el Ayuntamiento de Jijona (Avenida Constitución\, 6) en horario de 9 h a 14 h. \nCartel nanosGegants2023
URL:https://www.xixona.es/event/nanos-i-gegants/2023-08-16/
LOCATION:03-Alicante/Alacant
CATEGORIES:Actividad
END:VEVENT
BEGIN:VEVENT
DTSTART;TZID=Europe/Madrid:20230816T223000
DTEND;TZID=Europe/Madrid:20230816T233000
DTSTAMP:20260425T164827
CREATED:20230816T083458Z
LAST-MODIFIED:20230816T083458Z
UID:10000608-1692225000-1692228600@www.xixona.es
SUMMARY:Actuación de The Brokers y QPUC
DESCRIPTION:La programación de la semana de fiestas acoge la actuación de dos grupos de música con componentes jijonencos.
URL:https://www.xixona.es/event/actuacion-de-the-brokers-y-qpuc/
LOCATION:03-Alicante/Alacant
CATEGORIES:Concierto
ATTACH;FMTTYPE=image/png:https://www.xixona.es/wp-content/uploads/2025/01/Cartell-The-Brokers_QPUC.png
END:VEVENT
BEGIN:VEVENT
DTSTART;TZID=Europe/Madrid:20230817T110000
DTEND;TZID=Europe/Madrid:20230817T130000
DTSTAMP:20260425T164827
CREATED:20230804T070920Z
LAST-MODIFIED:20230804T070920Z
UID:10000604-1692270000-1692277200@www.xixona.es
SUMMARY:"Nanos i gegants"
DESCRIPTION:Lunes\, 14 /11h (niños/as\, salida Retén Policia) \nMiércoles\, 16 / 11 h (niños/as) \n Jueves\, 17 / 11 h (Moros Vermells) \nEixida des de l’Ajuntament \n(Avinguda Constitució\, 6) \nImportante: Las niñas y niños interesados en participar el lunes 14 de agosto y el miércoles 16 de agosto deberán de inscribirse a partir del 8 de agosto en el Ayuntamiento de Jijona (Avenida Constitución\, 6) en horario de 9 h a 14 h. \nCartel nanosGegants2023
URL:https://www.xixona.es/event/nanos-i-gegants/2023-08-17/
LOCATION:03-Alicante/Alacant
CATEGORIES:Actividad
END:VEVENT
BEGIN:VEVENT
DTSTART;TZID=Europe/Madrid:20230818T180000
DTEND;TZID=Europe/Madrid:20230818T234500
DTSTAMP:20260425T164827
CREATED:20230817T050735Z
LAST-MODIFIED:20230817T050735Z
UID:10000623-1692381600-1692402300@www.xixona.es
SUMMARY:"Nit del Soparet"
DESCRIPTION:A las 18.00h Encuentro de bandas y ensayo del himno de fiestas en el parque del Cuarnero \nA las 20.00h Desfilada dels xiquets y concurso de cabos de escuadra infantil \nA las 23.00h Nit del Soparet. Desfile de todas las filaes
URL:https://www.xixona.es/event/nit-del-soparet/
LOCATION:03-Alicante/Alacant
END:VEVENT
BEGIN:VEVENT
DTSTART;TZID=Europe/Madrid:20230818T180000
DTEND;TZID=Europe/Madrid:20230818T234500
DTSTAMP:20260425T164827
CREATED:20230817T050735Z
LAST-MODIFIED:20230817T050735Z
UID:10000624-1692381600-1692402300@www.xixona.es
SUMMARY:Nit del Soparet
DESCRIPTION:A les 18.00h Trobada de bandes i assaig de l’himne de festes al parc del Cuarnero.\nA les 20.00h Desfilada dels xiquets i concurs de caps d’esquadra infantil.\nA les 23.00h Nit del Soparet. Desfilada de totes les filaes
URL:https://www.xixona.es/event/nit-del-soparet-2/
LOCATION:03-Alicante/Alacant
END:VEVENT
BEGIN:VEVENT
DTSTART;TZID=Europe/Madrid:20230819T000000
DTEND;TZID=Europe/Madrid:20230821T230000
DTSTAMP:20260425T164827
CREATED:20230816T094624Z
LAST-MODIFIED:20230816T094624Z
UID:10000622-1692403200-1692658800@www.xixona.es
SUMMARY:Fiestas de Moros y Cristianos de Jijona 2023
DESCRIPTION:Actos_fiestas_2023 \n \n 
URL:https://www.xixona.es/event/fiestas-de-moros-y-cristianos-de-jijona-2023/
LOCATION:03-Alicante/Alacant
CATEGORIES:Actividad
END:VEVENT
BEGIN:VEVENT
DTSTART;TZID=Europe/Madrid:20230824T190000
DTEND;TZID=Europe/Madrid:20230824T210000
DTSTAMP:20260425T164827
CREATED:20230816T084044Z
LAST-MODIFIED:20230816T084044Z
UID:10000610-1692903600-1692910800@www.xixona.es
SUMMARY:Animación infantil
DESCRIPTION:El 24 de agosto celebramos el Día de San Bartolomé\, patrón de Xixona\, con un día de animación infantil a partir de las 19.00 h en la avenida Constitució.
URL:https://www.xixona.es/event/animacion-infantil-2/
LOCATION:03-Alicante/Alacant
CATEGORIES:Actividad
ATTACH;FMTTYPE=image/png:https://www.xixona.es/wp-content/uploads/2025/01/Cartell-Jornada-animacio.png
END:VEVENT
BEGIN:VEVENT
DTSTART;TZID=Europe/Madrid:20230825T220000
DTEND;TZID=Europe/Madrid:20230825T233000
DTSTAMP:20260425T164827
CREATED:20230724T074935Z
LAST-MODIFIED:20230724T074935Z
UID:10000588-1693000800-1693006200@www.xixona.es
SUMMARY:Cine a la fresca
DESCRIPTION:
URL:https://www.xixona.es/event/cine-a-la-fresca/2023-08-25/
LOCATION:03-Alicante/Alacant
CATEGORIES:Actividad
ATTACH;FMTTYPE=image/jpeg:https://www.xixona.es/wp-content/uploads/2025/01/Cartell_cine.jpg
END:VEVENT
BEGIN:VEVENT
DTSTART;TZID=Europe/Madrid:20230826T200000
DTEND;TZID=Europe/Madrid:20230826T233000
DTSTAMP:20260425T164827
CREATED:20230816T085220Z
LAST-MODIFIED:20230816T085220Z
UID:10000612-1693080000-1693092600@www.xixona.es
SUMMARY:Concierto de jóvenes promesas
DESCRIPTION:Cerramos la programación veraniega en el Barranc de la Font con un Concierto Jóvenes Promesas\, a cargo de tres solistas\, un dúo y una quinteto de jazz\, todos ellos jóvenes y dedicados a la música profesionalmente.
URL:https://www.xixona.es/event/concierto-de-jovenes-promesas/
LOCATION:03-Alicante/Alacant
CATEGORIES:Concierto
ATTACH;FMTTYPE=image/jpeg:https://www.xixona.es/wp-content/uploads/2025/01/CONCERT-JOVES-PROMESES-scaled.jpg
END:VEVENT
BEGIN:VEVENT
DTSTART;TZID=Europe/Madrid:20230827T110000
DTEND;TZID=Europe/Madrid:20230827T140000
DTSTAMP:20260425T164827
CREATED:20230816T085841Z
LAST-MODIFIED:20230816T085841Z
UID:10000614-1693134000-1693144800@www.xixona.es
SUMMARY:Fiesta en la piscina municipal
DESCRIPTION:Te esperamos el último domingo de agosto en la fiesta de la espuma.
URL:https://www.xixona.es/event/fiesta-en-la-piscina-municipal/
LOCATION:03-Alicante/Alacant
CATEGORIES:Actividad
ATTACH;FMTTYPE=image/png:https://www.xixona.es/wp-content/uploads/2025/01/Cartell-Xarxes_Festa-de-la-bromera.png
END:VEVENT
BEGIN:VEVENT
DTSTART;TZID=Europe/Madrid:20230827T110000
DTEND;TZID=Europe/Madrid:20230827T140000
DTSTAMP:20260425T164827
CREATED:20230816T090213Z
LAST-MODIFIED:20230816T090213Z
UID:10000616-1693134000-1693144800@www.xixona.es
SUMMARY:Festa de la bromera
DESCRIPTION:Lúltim diumenge d’agost celebrem la festa de la bromera en la piscina municipal. T’esperem!
URL:https://www.xixona.es/event/festa-de-la-bromera-2/
LOCATION:03-Alicante/Alacant
CATEGORIES:Actividad
ATTACH;FMTTYPE=image/jpeg:https://www.xixona.es/wp-content/uploads/2025/01/Cartell_Festa-Bromera-2023.jpg
END:VEVENT
BEGIN:VEVENT
DTSTART;TZID=Europe/Madrid:20230829T163000
DTEND;TZID=Europe/Madrid:20230829T203000
DTSTAMP:20260425T164827
CREATED:20230816T091920Z
LAST-MODIFIED:20230816T091920Z
UID:10000618-1693326600-1693341000@www.xixona.es
SUMMARY:Donación de sangre
DESCRIPTION:
URL:https://www.xixona.es/event/donacion-de-sangre-6/
LOCATION:03-Alicante/Alacant
CATEGORIES:Actividad
ATTACH;FMTTYPE=image/jpeg:https://www.xixona.es/wp-content/uploads/2025/01/29-8-23-XIXONA-SOCIEDAD-CULTURAL-EL-TRABAJO-V.jpg
END:VEVENT
END:VCALENDAR