BEGIN:VCALENDAR
VERSION:2.0
PRODID:-//Ajuntament de Xixona - ECPv6.15.15//NONSGML v1.0//EN
CALSCALE:GREGORIAN
METHOD:PUBLISH
X-ORIGINAL-URL:https://www.xixona.es
X-WR-CALDESC:Eventos para Ajuntament de Xixona
REFRESH-INTERVAL;VALUE=DURATION:PT1H
X-Robots-Tag:noindex
X-PUBLISHED-TTL:PT1H
BEGIN:VTIMEZONE
TZID:Europe/Madrid
BEGIN:DAYLIGHT
TZOFFSETFROM:+0100
TZOFFSETTO:+0200
TZNAME:CEST
DTSTART:20220327T010000
END:DAYLIGHT
BEGIN:STANDARD
TZOFFSETFROM:+0200
TZOFFSETTO:+0100
TZNAME:CET
DTSTART:20221030T010000
END:STANDARD
BEGIN:DAYLIGHT
TZOFFSETFROM:+0100
TZOFFSETTO:+0200
TZNAME:CEST
DTSTART:20230326T010000
END:DAYLIGHT
BEGIN:STANDARD
TZOFFSETFROM:+0200
TZOFFSETTO:+0100
TZNAME:CET
DTSTART:20231029T010000
END:STANDARD
BEGIN:DAYLIGHT
TZOFFSETFROM:+0100
TZOFFSETTO:+0200
TZNAME:CEST
DTSTART:20240331T010000
END:DAYLIGHT
BEGIN:STANDARD
TZOFFSETFROM:+0200
TZOFFSETTO:+0100
TZNAME:CET
DTSTART:20241027T010000
END:STANDARD
BEGIN:DAYLIGHT
TZOFFSETFROM:+0100
TZOFFSETTO:+0200
TZNAME:CEST
DTSTART:20250330T010000
END:DAYLIGHT
BEGIN:STANDARD
TZOFFSETFROM:+0200
TZOFFSETTO:+0100
TZNAME:CET
DTSTART:20251026T010000
END:STANDARD
END:VTIMEZONE
BEGIN:VEVENT
DTSTART;TZID=Europe/Madrid:20230904T180000
DTEND;TZID=Europe/Madrid:20230914T210000
DTSTAMP:20260424T161732
CREATED:20230816T092622Z
LAST-MODIFIED:20230816T092622Z
UID:10000620-1693850400-1694725200@www.xixona.es
SUMMARY:Exposición fotográfica "Me llamo. Me llaman"
DESCRIPTION:Del 4 al 14 de septiembre\, El Teatret acogerá la exposición fotográfica «Me llamo. Me llaman» de Benjamín y Cristian Serrano\, dentro de los actos de la XII Semana del Alzheimer. Estará abierta de lunes a sábado de 18.00 h a 21.00 h y los domingos de 10.00 h a 13.00 h. La inauguración será el día 4 de septiembre\, a les 18.00 h.
URL:https://www.xixona.es/event/exposicion-fotografica-me-llamo-me-llaman/
LOCATION:03-Alicante/Alacant
CATEGORIES:Exposición
END:VEVENT
BEGIN:VEVENT
DTSTART;TZID=Europe/Madrid:20230921T093000
DTEND;TZID=Europe/Madrid:20230921T120000
DTSTAMP:20260424T161733
CREATED:20230915T100911Z
LAST-MODIFIED:20230915T100911Z
UID:10000625-1695288600-1695297600@www.xixona.es
SUMMARY:Jornada sobre empleabilidad y competencias digitales
DESCRIPTION:¿Quieres conocer los recursos (Punt y App) que te ofrece LABORA? \n¿Quieres aprender a desenvolverte con la firma digital? \n¿Quieres poder manejarte con la sede electrónica de la administración? \n¿Quieres saber cómo sacar el máximo provecho a herramientas que te permitan ahorrar desplazamientos y te faciliten la realización de tramitaciones desde tu móvil u ordenador? \nApúntate a la jornada que impartirán Carmen Tonda del Espai Labora de Xixona y Roberto Devesa\, ADL de la Federación Valenciana de Municipios y Provincias\, el próximo jueves 21 de septiembre en el Espai Labora de Xixona a las 9\,30h. \nInscripciones en la Agencia de Desarrollo Local: adl@xixona.es 965.61.03.00 ext 324 \nCartel_Jornada
URL:https://www.xixona.es/event/jornada-sobre-empleabilidad-y-competencias-digitales/
LOCATION:03-Alicante/Alacant
CATEGORIES:Actividad
ATTACH;FMTTYPE=image/jpeg:https://www.xixona.es/wp-content/uploads/2025/01/cartel.jpg
END:VEVENT
BEGIN:VEVENT
DTSTART;TZID=Europe/Madrid:20230925T080000
DTEND;TZID=Europe/Madrid:20230925T170000
DTSTAMP:20260424T161733
CREATED:20230925T074253Z
LAST-MODIFIED:20230925T074253Z
UID:10000631-1695628800-1695661200@www.xixona.es
SUMMARY:SESSIÓ ORDINÀRIA DEL PLE DE LA CORPORACIÓ: 28 DE SETEMBRE DE 2023 A LES 20.00 HORES.
DESCRIPTION:  \n \nDc pl20230928 \n 
URL:https://www.xixona.es/event/sessio-ordinaria-del-ple-de-la-corporacio-28-de-setembre-de-2023-a-les-20-00-hores/
LOCATION:03-Alicante/Alacant
END:VEVENT
BEGIN:VEVENT
DTSTART;TZID=Europe/Madrid:20230929T180000
DTEND;TZID=Europe/Madrid:20230929T180000
DTSTAMP:20260424T161733
CREATED:20230918T051246Z
LAST-MODIFIED:20230918T051246Z
UID:10000627-1696010400-1696010400@www.xixona.es
SUMMARY:Curso Control biológico de plagas del huerto
DESCRIPTION:Inscripciones por teléfono en el 965.61.03.00 indicando nombre y teléfono de contacto.
URL:https://www.xixona.es/event/curso-control-biologico-de-plagas-del-huerto/2023-09-29/
LOCATION:03-Alicante/Alacant
CATEGORIES:Actividad
ATTACH;FMTTYPE=image/jpeg:https://www.xixona.es/wp-content/uploads/2025/01/curso_huertos.jpg
END:VEVENT
BEGIN:VEVENT
DTSTART;TZID=Europe/Madrid:20230930T093000
DTEND;TZID=Europe/Madrid:20230930T140000
DTSTAMP:20260424T161733
CREATED:20230918T051246Z
LAST-MODIFIED:20230918T051246Z
UID:10000628-1696066200-1696082400@www.xixona.es
SUMMARY:Curso Control biológico de plagas del huerto
DESCRIPTION:Inscripciones por teléfono en el 965.61.03.00 indicando nombre y teléfono de contacto.
URL:https://www.xixona.es/event/curso-control-biologico-de-plagas-del-huerto/2023-09-30/
LOCATION:03-Alicante/Alacant
CATEGORIES:Actividad
ATTACH;FMTTYPE=image/jpeg:https://www.xixona.es/wp-content/uploads/2025/01/curso_huertos.jpg
END:VEVENT
BEGIN:VEVENT
DTSTART;TZID=Europe/Madrid:20231009T090000
DTEND;TZID=Europe/Madrid:20231009T180000
DTSTAMP:20260424T161733
CREATED:20230929T051648Z
LAST-MODIFIED:20230929T051648Z
UID:10000632-1696842000-1696874400@www.xixona.es
SUMMARY:Festividad Nou d'Octubre
DESCRIPTION:Celebramos la festividad de la Comunidad Valenciana con los actos protocolarios en el ayuntamiento y la comida de hermandad en el parque de Sant Antoni. La Agrupación Artisticomuscial El Trabajo de Xixona realizará el pasacalle a las 9.00 h y a las 10.00 h tendrá lugar el homenaje a Jaume I a la puerta del ayuntamiento. Acto seguido se celebrará la procesión cívica hasta la Església Vella con la Colla de Dolçainers i Tabaleters Els Arreplegats de Xixona y a las 10.30 h se reconocerá y condecorará a las personas ilustres de Xixona.
URL:https://www.xixona.es/event/festividad-nou-doctubre/
LOCATION:03-Alicante/Alacant
CATEGORIES:Actividad
ATTACH;FMTTYPE=image/jpeg:https://www.xixona.es/wp-content/uploads/2025/01/Nou-doctubre-2023.jpg
END:VEVENT
BEGIN:VEVENT
DTSTART;TZID=Europe/Madrid:20231021T110000
DTEND;TZID=Europe/Madrid:20231021T130000
DTSTAMP:20260424T161733
CREATED:20231020T054817Z
LAST-MODIFIED:20231020T054817Z
UID:10000637-1697886000-1697893200@www.xixona.es
SUMMARY:Inauguración del nuevo parque de skate
DESCRIPTION:Ven este sábado 21 de octubre a la reabertura del skate park del Través. El acto será a las 11.00 h y contará con la presencia del subcampeón de España de bike trial\, Ángel Llorens\, y la música de David Siroco. ¡No puedes faltar!
URL:https://www.xixona.es/event/inauguracion-del-nuevo-parque-de-skate/
LOCATION:03-Alicante/Alacant
CATEGORIES:Actividad
ATTACH;FMTTYPE=image/jpeg:https://www.xixona.es/wp-content/uploads/2025/01/CARTELL-inauguracio-skate-park.jpg
END:VEVENT
BEGIN:VEVENT
DTSTART;TZID=Europe/Madrid:20231021T203000
DTEND;TZID=Europe/Madrid:20231021T223000
DTSTAMP:20260424T161733
CREATED:20231016T093209Z
LAST-MODIFIED:20231016T093209Z
UID:10000635-1697920200-1697927400@www.xixona.es
SUMMARY:Concierto de Proclamación de Capitanas
DESCRIPTION:El sábado 21 de octubre\, a las 20.30 h\, en el Cine de Dalt\, la Agrupación Artísticomusical El Trabajo de Xixona ofrecerá el concierto de proclamación de capitanas de las Fiestes de Heladores 2023. La entrada al evento es libre hasta agotar la capacidad del local.
URL:https://www.xixona.es/event/concierto-de-proclamacion-de-capitanas/
LOCATION:03-Alicante/Alacant
CATEGORIES:Concierto
ATTACH;FMTTYPE=image/jpeg:https://www.xixona.es/wp-content/uploads/2025/01/ASO-HELADEROS-XIXONA-2023-cartel-concierto-scaled.jpg
END:VEVENT
BEGIN:VEVENT
DTSTART;VALUE=DATE:20231104
DTEND;VALUE=DATE:20231105
DTSTAMP:20260424T161733
CREATED:20231031T130536Z
LAST-MODIFIED:20231031T130536Z
UID:10000640-1699056000-1699142399@www.xixona.es
SUMMARY:IX Subida a la Penya de Migjorn
DESCRIPTION:
URL:https://www.xixona.es/event/ix-pujada-a-la-penya-de-migjorn/
LOCATION:03-Alicante/Alacant
CATEGORIES:Actividad
END:VEVENT
BEGIN:VEVENT
DTSTART;TZID=Europe/Madrid:20231106T163000
DTEND;TZID=Europe/Madrid:20231106T203000
DTSTAMP:20260424T161733
CREATED:20231020T060822Z
LAST-MODIFIED:20231020T060822Z
UID:10000639-1699288200-1699302600@www.xixona.es
SUMMARY:Colecta de sangre
DESCRIPTION:Nueva colecta de sangre el próximo lunes 6 de noviembre de 2023 en la Sociedad Cultural El Trabajo de 16.30 h a 20.30 h.
URL:https://www.xixona.es/event/colecta-de-sangre/
LOCATION:03-Alicante/Alacant
CATEGORIES:Actividad
ATTACH;FMTTYPE=image/jpeg:https://www.xixona.es/wp-content/uploads/2025/01/6-11-23-XIXONA-SOCIEDAD-CULTURAL-EL-TRABAJO-V-1.jpg
END:VEVENT
BEGIN:VEVENT
DTSTART;TZID=Europe/Madrid:20231106T163000
DTEND;TZID=Europe/Madrid:20231106T203000
DTSTAMP:20260424T161733
CREATED:20231031T130812Z
LAST-MODIFIED:20231031T130812Z
UID:10000642-1699288200-1699302600@www.xixona.es
SUMMARY:Colecta de sangre
DESCRIPTION:
URL:https://www.xixona.es/event/colecta-de-sangre-2/
LOCATION:03-Alicante/Alacant
CATEGORIES:Actividad
ATTACH;FMTTYPE=image/jpeg:https://www.xixona.es/wp-content/uploads/2025/01/02_6-11-23-XIXONA-SOCIEDAD-CULTURAL-EL-TRABAJO-V.jpg
END:VEVENT
BEGIN:VEVENT
DTSTART;TZID=Europe/Madrid:20231109T100000
DTEND;TZID=Europe/Madrid:20231110T130000
DTSTAMP:20260424T161733
CREATED:20231031T131627Z
LAST-MODIFIED:20231031T131627Z
UID:10000644-1699524000-1699621200@www.xixona.es
SUMMARY:Talleres "Iai@connectat"
DESCRIPTION:Talleres dirigido a personas mayores de 65 años donde se explicará el funcionamiento de algunas Apps como GVA Salut\, WhatsApp\, Google Photos\, etc. Inscripciones en el teléfono 965 61 03 00.
URL:https://www.xixona.es/event/talleres-iaiconnectat/
LOCATION:03-Alicante/Alacant
CATEGORIES:Taller
ATTACH;FMTTYPE=image/jpeg:https://www.xixona.es/wp-content/uploads/2025/01/Iai@connectat.jpg
END:VEVENT
BEGIN:VEVENT
DTSTART;TZID=Europe/Madrid:20231109T100000
DTEND;TZID=Europe/Madrid:20231110T130000
DTSTAMP:20260424T161733
CREATED:20231031T131627Z
LAST-MODIFIED:20231031T131627Z
UID:10000645-1699524000-1699621200@www.xixona.es
SUMMARY:Tallers "Iai@connectat"
DESCRIPTION:Tallers dirigits a persones majors de 65 anys on s’explicarà el funcionament d’algunes Apps com GVA Salut\, WhatsApp\, Google Photos\, etc. Inscripcions en el telèfono 965 61 03 00.
URL:https://www.xixona.es/event/tallers-iaiconnectat/
LOCATION:03-Alicante/Alacant
CATEGORIES:Taller
ATTACH;FMTTYPE=image/jpeg:https://www.xixona.es/wp-content/uploads/2025/01/Iai@connectat.jpg
END:VEVENT
BEGIN:VEVENT
DTSTART;TZID=Europe/Madrid:20231114T173000
DTEND;TZID=Europe/Madrid:20231128T203000
DTSTAMP:20260424T161733
CREATED:20231114T130047Z
LAST-MODIFIED:20231114T130047Z
UID:10000651-1699983000-1701203400@www.xixona.es
SUMMARY:Exposición del taller de cerámica
DESCRIPTION:El Teatret acogerá la exposición de los trabajos del taller de cerámica del 14 al 28 de noviembre. Se podrá visitar de lunes a sábados de 17.30 h a 20.30 h.
URL:https://www.xixona.es/event/exposicion-del-taller-de-ceramica/
LOCATION:03-Alicante/Alacant
CATEGORIES:Exposición
ATTACH;FMTTYPE=image/jpeg:https://www.xixona.es/wp-content/uploads/2025/01/EXPOSICIO-DEL-TALLER-de-cerAmica.jpg
END:VEVENT
BEGIN:VEVENT
DTSTART;TZID=Europe/Madrid:20231118T203000
DTEND;TZID=Europe/Madrid:20231118T213000
DTSTAMP:20260424T161733
CREATED:20231109T090255Z
LAST-MODIFIED:20231109T090255Z
UID:10000648-1700339400-1700343000@www.xixona.es
SUMMARY:X Aniversario UMX
DESCRIPTION:La Unió Musical de Xixona celebra su décimo aniversario con un concierto en honor a Santa Cecilia\, patrona de los músicos. El concierto tendrá lugar el próximo sábado 18 de noviembre\, a las 20.30 h\, en el Cine de Dalt. La entrada es libre hasta agotar el aforo del local. 
URL:https://www.xixona.es/event/x-aniversario-umx-2/
LOCATION:03-Alicante/Alacant
CATEGORIES:Concierto
END:VEVENT
BEGIN:VEVENT
DTSTART;TZID=Europe/Madrid:20231202T190000
DTEND;TZID=Europe/Madrid:20231202T213000
DTSTAMP:20260424T161733
CREATED:20231108T100441Z
LAST-MODIFIED:20231108T100441Z
UID:10000646-1701543600-1701552600@www.xixona.es
SUMMARY:Músiques d'anada i tornada
DESCRIPTION:El próximo 2 de diciembre se realizará el tradicional concierto de Navidad en su onceava edición. Los billetes de autobús se pueden adquirir en Viajes Jijona y las entradas para el concierto se reservan en Giglon: https://www.giglon.com/evento/xi-concert-de-nadal \n  \n  \n 
URL:https://www.xixona.es/event/musiques-danada-i-tornada/
LOCATION:03-Alicante/Alacant
CATEGORIES:Concierto
ATTACH;FMTTYPE=image/jpeg:https://www.xixona.es/wp-content/uploads/2025/01/AYTO-JIJONA-cartel-XI-Concert-Nadal-OK-001.jpg
END:VEVENT
BEGIN:VEVENT
DTSTART;TZID=Europe/Madrid:20231203T183000
DTEND;TZID=Europe/Madrid:20231203T193000
DTSTAMP:20260424T161733
CREATED:20231130T093241Z
LAST-MODIFIED:20231130T093241Z
UID:10000654-1701628200-1701631800@www.xixona.es
SUMMARY:Toc-toc\, la porta està oberta
DESCRIPTION:La jovencísima compañía de teatro amateur Obri el Teló nos presenta este domingo las 18.30 h\, en el Cine de Dalt\, una divertida obra de teatro que no puedes perderte.
URL:https://www.xixona.es/event/toc-toc-la-porta-esta-oberta/
LOCATION:03-Alicante/Alacant
CATEGORIES:Teatro
ATTACH;FMTTYPE=image/jpeg:https://www.xixona.es/wp-content/uploads/2025/01/CARTELL-TOC-TOC.jpg
END:VEVENT
BEGIN:VEVENT
DTSTART;TZID=Europe/Madrid:20231205T100000
DTEND;TZID=Europe/Madrid:20231210T210000
DTSTAMP:20260424T161733
CREATED:20231128T074621Z
LAST-MODIFIED:20231128T074621Z
UID:10000652-1701770400-1702242000@www.xixona.es
SUMMARY:XV Feria de Navidad de Jijona
DESCRIPTION:Del 5 al 10 de diciembre. \nMás información en: https://www.feriadenavidad.es/ \n \n 
URL:https://www.xixona.es/event/xv-feria-de-navidad-de-jijona/
LOCATION:03-Alicante/Alacant
CATEGORIES:Actividad
ATTACH;FMTTYPE=image/jpeg:https://www.xixona.es/wp-content/uploads/2025/01/Cartell-Fira-de-Nadal-2023-red.jpg
END:VEVENT
BEGIN:VEVENT
DTSTART;TZID=Europe/Madrid:20231205T173000
DTEND;TZID=Europe/Madrid:20231205T193000
DTSTAMP:20260424T161733
CREATED:20231130T093946Z
LAST-MODIFIED:20231130T093946Z
UID:10000657-1701797400-1701804600@www.xixona.es
SUMMARY:Cantem nadales
DESCRIPTION:El próximo día 5 de diciembre a las 17.30 h\, en el Barranc de la Font\, alumnado de los tres centros educativos de primaria de Xixona\, darán la bienvenida a la Feria con el encendido de luces del belén y el tradicional concierto de villancicos. Acto seguido los participantes estarán invitados a una merienda en la sociedad El Trabajo.
URL:https://www.xixona.es/event/cantem-nadales-2-3/
LOCATION:03-Alicante/Alacant
CATEGORIES:Concierto
ATTACH;FMTTYPE=image/png:https://www.xixona.es/wp-content/uploads/2025/01/Cantem-nadales.png
END:VEVENT
BEGIN:VEVENT
DTSTART;TZID=Europe/Madrid:20231216T200000
DTEND;TZID=Europe/Madrid:20231216T210000
DTSTAMP:20260424T161733
CREATED:20231212T085146Z
LAST-MODIFIED:20231212T085146Z
UID:10000658-1702756800-1702760400@www.xixona.es
SUMMARY:Concierto de la Coral de Voces Blancas Ciudad de Xixona
DESCRIPTION:Este sábado 16 de diciembre\, a las 20.00 h\, en el Cine de Dalt\, la coral de voces blancas Ciudad de Jijona nos ofrece un concierto navideño. 
URL:https://www.xixona.es/event/concierto-de-la-coral-de-voces-blancas-ciudad-de-xixona/
LOCATION:03-Alicante/Alacant
CATEGORIES:Concierto
ATTACH;FMTTYPE=image/png:https://www.xixona.es/wp-content/uploads/2025/01/Cartell-A4-Concert-Veus-Blanques.png
END:VEVENT
BEGIN:VEVENT
DTSTART;TZID=Europe/Madrid:20231217T120000
DTEND;TZID=Europe/Madrid:20231217T130000
DTSTAMP:20260424T161733
CREATED:20231212T091605Z
LAST-MODIFIED:20231212T091605Z
UID:10000660-1702814400-1702818000@www.xixona.es
SUMMARY:Audición Escuela de Música
DESCRIPTION:El alumnado de la Escuela de Música realizará la audición para Navidad este domingo 17 de diciembre\, a las 12.00 h\, en el Cine de Dalt. La entrada es libre hasta completar el aforo del local.
URL:https://www.xixona.es/event/audicion-escuela-de-musica/
LOCATION:03-Alicante/Alacant
CATEGORIES:Concierto
ATTACH;FMTTYPE=image/jpeg:https://www.xixona.es/wp-content/uploads/2025/01/AUDICIO-DE-NADAL-001.jpg
END:VEVENT
BEGIN:VEVENT
DTSTART;TZID=Europe/Madrid:20231221T180000
DTEND;TZID=Europe/Madrid:20231221T190000
DTSTAMP:20260424T161733
CREATED:20231212T095802Z
LAST-MODIFIED:20231212T095802Z
UID:10000664-1703181600-1703185200@www.xixona.es
SUMMARY:Concert d'hivern
DESCRIPTION:La banda juvenil de la Agrupación Artísticomusical El Trabajo de Xixona junto con el grupo coral de los tres colegios de Xixona realizarán un concierto el próximo 21 de diciembre\, a las 18.00 h\, en el Cine de Dalt. Las entradas se pueden reservar a partir del miércoles 13 de diciembre en Giglon: https://www.giglon.com/evento/concert-banda-juvenil-i-coral
URL:https://www.xixona.es/event/concert-dhivern/
LOCATION:03-Alicante/Alacant
CATEGORIES:Concierto
ATTACH;FMTTYPE=image/jpeg:https://www.xixona.es/wp-content/uploads/2025/01/Cartell-A4-Concert-dHivern_211223.jpeg
END:VEVENT
BEGIN:VEVENT
DTSTART;TZID=Europe/Madrid:20231223T110000
DTEND;TZID=Europe/Madrid:20231223T140000
DTSTAMP:20260424T161733
CREATED:20231212T094125Z
LAST-MODIFIED:20231212T094125Z
UID:10000662-1703329200-1703340000@www.xixona.es
SUMMARY:Visita de Papá Noel
DESCRIPTION:El viernes 23 de diciembre\, os recibirá en su casa Papá Noel. Estará con nosotros de 11.00 h a 14.00 h y de 17.00 h a 20.00 h en la puerta del Ayuntamiento. ¡No faltéis!
URL:https://www.xixona.es/event/visita-de-papa-noel/
LOCATION:03-Alicante/Alacant
CATEGORIES:Actividad
ATTACH;FMTTYPE=image/png:https://www.xixona.es/wp-content/uploads/2025/01/Cartell-A4_Caseta-Pare-Noel.png
END:VEVENT
BEGIN:VEVENT
DTSTART;TZID=Europe/Madrid:20240104T183000
DTEND;TZID=Europe/Madrid:20240104T193000
DTSTAMP:20260424T161733
CREATED:20240102T110516Z
LAST-MODIFIED:20240102T110516Z
UID:10000666-1704393000-1704396600@www.xixona.es
SUMMARY:Navidades mágicas
DESCRIPTION:Ponle magia a la Navidad y no te pierdas este espectáculo para toda la familia donde los Reyes Magos\, Papá Noel y un montón de caramelos serán los protagonistas. Gracias a la magia comprobaremos como cualquier cosa rota puede ser reparada o incluso transformada…
URL:https://www.xixona.es/event/navidades-magicas/
LOCATION:03-Alicante/Alacant
CATEGORIES:Actividad
ATTACH;FMTTYPE=image/jpeg:https://www.xixona.es/wp-content/uploads/2025/01/Xarxes_socials_cine_dalt.jpg
END:VEVENT
BEGIN:VEVENT
DTSTART;TZID=Europe/Madrid:20240107T123000
DTEND;TZID=Europe/Madrid:20240107T133000
DTSTAMP:20260424T161733
CREATED:20240102T122607Z
LAST-MODIFIED:20240102T122607Z
UID:10000668-1704630600-1704634200@www.xixona.es
SUMMARY:XIX Festival de Guitarra Ciutat de Xixona
DESCRIPTION:Enero se prepara para  la nueva edición del Festival de Guitarra Ciutat de Xixona 2024 que ya cumple diecinueve años. Los conciertos tendrán lugar entre el 7 y el 13 de enero y este año se trasladan al Cine de Dalt. El quinteto de jazz Pep Alcaraz & Friends abrirá esta nueva edición el próximo domingo 7 de enero\, a las 12.30 h. La entrada a todos los conciertos es libre hasta agotar el aforo del local.
URL:https://www.xixona.es/event/festival-de-guitarra/
LOCATION:03-Alicante/Alacant
CATEGORIES:Concierto
ATTACH;FMTTYPE=image/jpeg:https://www.xixona.es/wp-content/uploads/2025/01/Cartel-festival-de-guitarra-2024.jpg
END:VEVENT
BEGIN:VEVENT
DTSTART;TZID=Europe/Madrid:20240120T203000
DTEND;TZID=Europe/Madrid:20240120T220000
DTSTAMP:20260424T161733
CREATED:20240115T123902Z
LAST-MODIFIED:20240115T123902Z
UID:10000670-1705782600-1705788000@www.xixona.es
SUMMARY:Festividad de Sant Sebastià
DESCRIPTION:Celebramos la festividad de uno de los patrones de Xixona con los siguientes actos: a las 9.30 h pasacalle de la Agrupación Artisticomuscial El Trabajo de Xixona\, a las 18.00 h procesión y a las 20.30 h el concierto Colors a cargo de la Agrupación Artisticomusical El Trabajo de Xixona bajo la dirección de Antonio Lajara Ángel y la colaboración de David Romero (bombardino) y Carlos Ferrer (trombón) como solistas.
URL:https://www.xixona.es/event/festividad-de-sant-sebastia/
LOCATION:03-Alicante/Alacant
CATEGORIES:Concierto
ATTACH;FMTTYPE=image/jpeg:https://www.xixona.es/wp-content/uploads/2025/01/concert-colors-AF2.jpg
END:VEVENT
BEGIN:VEVENT
DTSTART;TZID=Europe/Madrid:20240127T193000
DTEND;TZID=Europe/Madrid:20240127T203000
DTSTAMP:20260424T161733
CREATED:20240115T125446Z
LAST-MODIFIED:20240115T125446Z
UID:10000672-1706383800-1706387400@www.xixona.es
SUMMARY:Alice
DESCRIPTION:Ven al espectáculo Alice de Masters Ballet el próximo sábado 27 de enero a las 19.30 h en el Cine de Dalt en beneficio de la Asociación Contra el Cáncer de Xixona.
URL:https://www.xixona.es/event/alice/
LOCATION:03-Alicante/Alacant
CATEGORIES:Danza
ATTACH;FMTTYPE=image/jpeg:https://www.xixona.es/wp-content/uploads/2025/01/Alice.jpg
END:VEVENT
BEGIN:VEVENT
DTSTART;TZID=Europe/Madrid:20240128T100000
DTEND;TZID=Europe/Madrid:20240128T130000
DTSTAMP:20260424T161733
CREATED:20240115T130154Z
LAST-MODIFIED:20240115T130154Z
UID:10000674-1706436000-1706446800@www.xixona.es
SUMMARY:Día del Árbol
DESCRIPTION:Celebremos el Día del Árbol el domingo 28 de enero a las 10.00 h en el Moratell (detrás del ecoparque)\, habrá chocolate para los asistentes.
URL:https://www.xixona.es/event/dia-del-arbol-2/
LOCATION:03-Alicante/Alacant
CATEGORIES:Actividad
ATTACH;FMTTYPE=image/jpeg:https://www.xixona.es/wp-content/uploads/2025/01/Cartell_DiaDelArbre_2024.jpg
END:VEVENT
BEGIN:VEVENT
DTSTART;TZID=Europe/Madrid:20240215T173000
DTEND;TZID=Europe/Madrid:20240215T193000
DTSTAMP:20260424T161733
CREATED:20240213T084020Z
LAST-MODIFIED:20240213T084020Z
UID:10000677-1708018200-1708025400@www.xixona.es
SUMMARY:Animación y chocolatada en la Kábila de los Heladeros
DESCRIPTION:Este jueves 15 de febrero\, dentro de los actos del Mig Any\, tendremos animación para todos los niños y niñas a partir de las 17.30 h en la kábila de los Heladeros. Como siempre\, la Asociación Cultural y Festera de los Heladeros nos invita a la merienda.
URL:https://www.xixona.es/event/animacion-y-chocolatada-en-la-kabila-de-los-heladeros/
LOCATION:03-Alicante/Alacant
CATEGORIES:Actividad
ATTACH;FMTTYPE=image/jpeg:https://www.xixona.es/wp-content/uploads/2025/01/IMG-20240209-WA0009.jpg
END:VEVENT
BEGIN:VEVENT
DTSTART;TZID=Europe/Madrid:20240315T203000
DTEND;TZID=Europe/Madrid:20240316T213000
DTSTAMP:20260424T161733
CREATED:20240314T074358Z
LAST-MODIFIED:20240314T074358Z
UID:10000682-1710534600-1710624600@www.xixona.es
SUMMARY:XIX Festival Internacional de Guitarra Ciutat de Xixona
DESCRIPTION:Este fin de semana podremos disfrutar de la segunda parte del XIX Festival Internacional de Guitarra Ciutat de Xixona 2024. El primer concierto a cargo de Duo Artescena con Daekun Jang (a la guitarra) y Hae-Eun Kim (violonchelo) y el sábado 16 con el trio Fernando Espí & Friends a cargo de Rafa Mayans (percusión)\, Elena Minguélez (piano) y Fernando Espí (guitarra). Los conciertos serán a las 20.30 h en el Cine de Dalt y la entrada será libre.
URL:https://www.xixona.es/event/xix-festival-internacional-de-guitarra-ciutat-de-xixona/
LOCATION:03-Alicante/Alacant
CATEGORIES:Concierto
ATTACH;FMTTYPE=image/jpeg:https://www.xixona.es/wp-content/uploads/2025/01/Cartel-Festival-de-Guitarra-2024-marzo_traz_rev2.jpg
END:VEVENT
END:VCALENDAR