BEGIN:VCALENDAR
VERSION:2.0
PRODID:-//Ajuntament de Xixona - ECPv6.15.15//NONSGML v1.0//EN
CALSCALE:GREGORIAN
METHOD:PUBLISH
X-ORIGINAL-URL:https://www.xixona.es
X-WR-CALDESC:Eventos para Ajuntament de Xixona
REFRESH-INTERVAL;VALUE=DURATION:PT1H
X-Robots-Tag:noindex
X-PUBLISHED-TTL:PT1H
BEGIN:VTIMEZONE
TZID:Europe/Madrid
BEGIN:DAYLIGHT
TZOFFSETFROM:+0100
TZOFFSETTO:+0200
TZNAME:CEST
DTSTART:20230326T010000
END:DAYLIGHT
BEGIN:STANDARD
TZOFFSETFROM:+0200
TZOFFSETTO:+0100
TZNAME:CET
DTSTART:20231029T010000
END:STANDARD
BEGIN:DAYLIGHT
TZOFFSETFROM:+0100
TZOFFSETTO:+0200
TZNAME:CEST
DTSTART:20240331T010000
END:DAYLIGHT
BEGIN:STANDARD
TZOFFSETFROM:+0200
TZOFFSETTO:+0100
TZNAME:CET
DTSTART:20241027T010000
END:STANDARD
BEGIN:DAYLIGHT
TZOFFSETFROM:+0100
TZOFFSETTO:+0200
TZNAME:CEST
DTSTART:20250330T010000
END:DAYLIGHT
BEGIN:STANDARD
TZOFFSETFROM:+0200
TZOFFSETTO:+0100
TZNAME:CET
DTSTART:20251026T010000
END:STANDARD
END:VTIMEZONE
BEGIN:VEVENT
DTSTART;TZID=Europe/Madrid:20240428T120000
DTEND;TZID=Europe/Madrid:20240428T143000
DTSTAMP:20260424T094147
CREATED:20240419T105634Z
LAST-MODIFIED:20240419T105634Z
UID:10000710-1714305600-1714314600@www.xixona.es
SUMMARY:Celebración Cent d'Estellés
DESCRIPTION:El Ayuntamiento de Xixona\, a través de la Concejalía de Promoción Lingüística\, dedica una jornada a la cultura\, raíces y poesía para la celebración del centenario del nacimiento del poeta V. Andrés Estellés. El acto conmemorativo se desarrollará entre lecturas\, la música de\nÀlex Blat y una picaeta para todos los asistentes.
URL:https://www.xixona.es/event/celebracion-cent-destelles/
LOCATION:03-Alicante/Alacant
CATEGORIES:Actividad,Concierto
ATTACH;FMTTYPE=image/jpeg:https://www.xixona.es/wp-content/uploads/2025/01/100-dEStelles.jpg
END:VEVENT
BEGIN:VEVENT
DTSTART;TZID=Europe/Madrid:20240505T090000
DTEND;TZID=Europe/Madrid:20240505T180000
DTSTAMP:20260424T094147
CREATED:20240417T062724Z
LAST-MODIFIED:20240417T062724Z
UID:10000708-1714899600-1714932000@www.xixona.es
SUMMARY:II Día del Fútbol
DESCRIPTION:La Concejalía de Deportes celebra por segundo año consecutivo el Día del Fútbol con muchas actividades para disfrutar en familia. Para participar hay que inscribirse por correo (esports@xixona.es) o por teléfono (965 610 702).
URL:https://www.xixona.es/event/ii-dia-del-futbol/
LOCATION:03-Alicante/Alacant
CATEGORIES:Actividad
ATTACH;FMTTYPE=image/jpeg:https://www.xixona.es/wp-content/uploads/2025/01/II-DIADEL-FUTBOL24insta-21-x-29.7-cm.jpg
END:VEVENT
BEGIN:VEVENT
DTSTART;TZID=Europe/Madrid:20240507T190000
DTEND;TZID=Europe/Madrid:20240507T200000
DTSTAMP:20260424T094147
CREATED:20240506T092009Z
LAST-MODIFIED:20240506T092009Z
UID:10000718-1715108400-1715112000@www.xixona.es
SUMMARY:Audición de guitarra
DESCRIPTION:Los educandos de la Escuela de Pulso y Púa Solfaut realizarán un concierto abierto al público el martes 7 de mayo\, a las 19.00 h\, en el Cine de Dalt.
URL:https://www.xixona.es/event/audicio-de-guitarra/
LOCATION:03-Alicante/Alacant
CATEGORIES:Concierto
ATTACH;FMTTYPE=image/jpeg:https://www.xixona.es/wp-content/uploads/2025/01/CONCERT-solfaut-1.jpg
END:VEVENT
BEGIN:VEVENT
DTSTART;TZID=Europe/Madrid:20240508T093000
DTEND;TZID=Europe/Madrid:20240508T103000
DTSTAMP:20260424T094147
CREATED:20240503T082344Z
LAST-MODIFIED:20240503T082344Z
UID:10000716-1715160600-1715164200@www.xixona.es
SUMMARY:Liga Activate
DESCRIPTION:Presentación app gratuita para Jijona con la que podrás ganar descuentos por caminar y promocionar tu comercio o empresa. \nReunión informativa para ciudadanos y comercios el miércoles 8 de mayo a las 9.30h en la Casa de Cultura.
URL:https://www.xixona.es/event/liga-activate/
LOCATION:03-Alicante/Alacant
CATEGORIES:Actividad
ATTACH;FMTTYPE=image/jpeg:https://www.xixona.es/wp-content/uploads/2025/01/Cartell_liga_activate_reunio.jpg
END:VEVENT
BEGIN:VEVENT
DTSTART;TZID=Europe/Madrid:20240508T190000
DTEND;TZID=Europe/Madrid:20240508T200000
DTSTAMP:20260424T094147
CREATED:20240506T092658Z
LAST-MODIFIED:20240506T092658Z
UID:10000720-1715194800-1715198400@www.xixona.es
SUMMARY:Presentación "Els noms dels pobles. Origen i significat"
DESCRIPTION:Conferencia presentación a cargo de Abel Soler el miércoles 8 de mayo\, a las 19.00 h\, en la biblioteca.
URL:https://www.xixona.es/event/presentacion-els-noms-dels-pobles-origen-i-significat/
LOCATION:03-Alicante/Alacant
CATEGORIES:Actividad
ATTACH;FMTTYPE=image/jpeg:https://www.xixona.es/wp-content/uploads/2025/01/Cartell_EL-NOM-DE-XIXONA-I-ELS-DALTRES-POBLES.jpg
END:VEVENT
BEGIN:VEVENT
DTSTART;TZID=Europe/Madrid:20240509T160000
DTEND;TZID=Europe/Madrid:20240509T190000
DTSTAMP:20260424T094147
CREATED:20240506T094150Z
LAST-MODIFIED:20240506T094150Z
UID:10000724-1715270400-1715281200@www.xixona.es
SUMMARY:Campaña "En valencià"
DESCRIPTION:Llega a Xixona la campaña de la Acadèmia Valenciana de la Llengua «En valencià»\, una iniciativa para fomentar el uso del valenciano a través de juegos. La carpa se pondrá en la puerta del ayuntamiento de 16.00 h a 19.00 h. \nç
URL:https://www.xixona.es/event/campana-en-valencia/
LOCATION:03-Alicante/Alacant
CATEGORIES:Actividad
ATTACH;FMTTYPE=image/jpeg:https://www.xixona.es/wp-content/uploads/2025/01/dijous-9.jpg
END:VEVENT
BEGIN:VEVENT
DTSTART;TZID=Europe/Madrid:20240511T080000
DTEND;TZID=Europe/Madrid:20240512T170000
DTSTAMP:20260424T094147
CREATED:20240419T111300Z
LAST-MODIFIED:20240419T111300Z
UID:10000712-1715414400-1715533200@www.xixona.es
SUMMARY:33 vuelta al término en bici
DESCRIPTION:Ya está abierta la inscripción de la treinta y tres edición de la vuelta al término en bici que organiza el Centre Excursionista de Xixona y patrocina la Concejalía de Deportes. Hay de plazo hasta el 7 de mayo y un límite de 20 inscripciones.
URL:https://www.xixona.es/event/33-vuelta-al-termino-en-bici/
LOCATION:03-Alicante/Alacant
CATEGORIES:Actividad
ATTACH;FMTTYPE=image/jpeg:https://www.xixona.es/wp-content/uploads/2025/01/2024_VoltaTermeBici_Cartell.jpg
END:VEVENT
BEGIN:VEVENT
DTSTART;TZID=Europe/Madrid:20240511T200000
DTEND;TZID=Europe/Madrid:20240511T233000
DTSTAMP:20260424T094147
CREATED:20240506T093335Z
LAST-MODIFIED:20240506T093335Z
UID:10000722-1715457600-1715470200@www.xixona.es
SUMMARY:Concierto en el Castillo
DESCRIPTION:Celebramos la II Fiesta del Casco Antiguo de Xixona este sábado 11 de mayo\, a partir de las 20.00 h con música en directo\, barra con comida y bebida y más música para continuar.
URL:https://www.xixona.es/event/concierto-en-el-castillo/
LOCATION:03-Alicante/Alacant
CATEGORIES:Concierto
ATTACH;FMTTYPE=image/jpeg:https://www.xixona.es/wp-content/uploads/2025/01/FestaCastell-1.jpg
END:VEVENT
BEGIN:VEVENT
DTSTART;TZID=Europe/Madrid:20240521T163000
DTEND;TZID=Europe/Madrid:20240521T203000
DTSTAMP:20260424T094147
CREATED:20240517T101610Z
LAST-MODIFIED:20240517T101610Z
UID:10000726-1716309000-1716323400@www.xixona.es
SUMMARY:Donación de sangre
DESCRIPTION:Dona sangre en Jijona. \nMartes 21 de mayo de 2024 de 16.30h a 20.30h. \nSociedad Cultural El Trabajo de Jijona (Av. Constitución 19)
URL:https://www.xixona.es/event/donacion-de-sangre-7/
LOCATION:03-Alicante/Alacant
CATEGORIES:Actividad
ATTACH;FMTTYPE=image/jpeg:https://www.xixona.es/wp-content/uploads/2025/01/21-5-24-donacio-sang.jpg
END:VEVENT
BEGIN:VEVENT
DTSTART;TZID=Europe/Madrid:20240531T203000
DTEND;TZID=Europe/Madrid:20240531T230000
DTSTAMP:20260424T094147
CREATED:20240419T112146Z
LAST-MODIFIED:20240419T112146Z
UID:10000714-1717187400-1717196400@www.xixona.es
SUMMARY:Jornada de astronomía
DESCRIPTION:Ya están abiertas las inscripciones de esta interesante actividad familiar en xixona@tramuntanaaventura.es. Recuerda que hay que llevar cena\, ropa de abrigo y linterna o frontal.
URL:https://www.xixona.es/event/jornada-de-astronomia/
LOCATION:03-Alicante/Alacant
CATEGORIES:Actividad
END:VEVENT
BEGIN:VEVENT
DTSTART;TZID=Europe/Madrid:20240628T200000
DTEND;TZID=Europe/Madrid:20240628T213000
DTSTAMP:20260424T094147
CREATED:20240625T094249Z
LAST-MODIFIED:20240625T094249Z
UID:10000730-1719604800-1719610200@www.xixona.es
SUMMARY:El Nadal al paladar
DESCRIPTION:La Punxa Teatre\, grupo de teatro de la Sede Universitaria de Xixona\, estrena su obra de creación colectiva «El Nadal al paladar» este viernes 28 de junio a las 20.00 h en el Cine de Dalt.
URL:https://www.xixona.es/event/el-nadal-al-paladar/
LOCATION:03-Alicante/Alacant
CATEGORIES:Actividad,Teatro
ATTACH;FMTTYPE=image/png:https://www.xixona.es/wp-content/uploads/2025/01/cartel-xixona-La-punxa-teatre-2024.png
END:VEVENT
BEGIN:VEVENT
DTSTART;TZID=Europe/Madrid:20240629T190000
DTEND;TZID=Europe/Madrid:20240629T233000
DTSTAMP:20260424T094147
CREATED:20240530T111140Z
LAST-MODIFIED:20240530T111140Z
UID:10000728-1719687600-1719703800@www.xixona.es
SUMMARY:Nit de Sant Joan
DESCRIPTION:El último sábado del mes de junio el AEX organiza la ya tradicional Nit de Sant Joan con concurso de tortilla de patatas\, cena de sobaquillo\, pasacalle de la UMX\, actuación musical y más sorpresas. Será a partir de las 19.00 h en la Av. Constitució (La Plaça).¡Os esperamos!
URL:https://www.xixona.es/event/nit-de-sant-joan-2-2/
LOCATION:03-Alicante/Alacant
CATEGORIES:Actividad
ATTACH;FMTTYPE=image/jpeg:https://www.xixona.es/wp-content/uploads/2025/01/Nit-de-Sant-Joan-A3.jpg
END:VEVENT
BEGIN:VEVENT
DTSTART;TZID=Europe/Madrid:20240630T180000
DTEND;TZID=Europe/Madrid:20240630T190000
DTSTAMP:20260424T094147
CREATED:20240625T101314Z
LAST-MODIFIED:20240625T101314Z
UID:10000732-1719770400-1719774000@www.xixona.es
SUMMARY:Concierto de Intercambio Banda Joven
DESCRIPTION:Dentro del marco de la XXI Campaña de Intercambios Musicales\, el domingo 30 de junio\, a las 18.00 h\, actuará la sociedad musical La Esperanza de Sant Vicent del Raspeig y la Agrupación Artisticomusical El Trabajo de Xixona. La entrada es libre hasta agotar la capacidad de la sala.
URL:https://www.xixona.es/event/concierto-de-intercambio-banda-joven/
LOCATION:03-Alicante/Alacant
CATEGORIES:Concierto
ATTACH;FMTTYPE=image/jpeg:https://www.xixona.es/wp-content/uploads/2025/01/Concert-Banda-Jove_30062024.jpeg
END:VEVENT
BEGIN:VEVENT
DTSTART;TZID=Europe/Madrid:20240706T200000
DTEND;TZID=Europe/Madrid:20240706T233000
DTSTAMP:20260424T094147
CREATED:20240705T053458Z
LAST-MODIFIED:20240705T053458Z
UID:10000736-1720296000-1720308600@www.xixona.es
SUMMARY:Festijove
DESCRIPTION:¡No faltéis!
URL:https://www.xixona.es/event/festijove/
LOCATION:03-Alicante/Alacant
CATEGORIES:Actividad
ATTACH;FMTTYPE=image/jpeg:https://www.xixona.es/wp-content/uploads/2025/01/Cartell-FESTIJOVE.jpg
END:VEVENT
BEGIN:VEVENT
DTSTART;TZID=Europe/Madrid:20240709T200000
DTEND;TZID=Europe/Madrid:20240709T210000
DTSTAMP:20260424T094147
CREATED:20240705T053920Z
LAST-MODIFIED:20240705T053920Z
UID:10000738-1720555200-1720558800@www.xixona.es
SUMMARY:Contes a la fresca
DESCRIPTION:
URL:https://www.xixona.es/event/contes-a-la-fresca-2-3/
LOCATION:03-Alicante/Alacant
CATEGORIES:Actividad
ATTACH;FMTTYPE=image/png:https://www.xixona.es/wp-content/uploads/2025/01/Cartell-A4-Contes-Juglereando_06_07_2024.png
END:VEVENT
BEGIN:VEVENT
DTSTART;TZID=Europe/Madrid:20240712T190000
DTEND;TZID=Europe/Madrid:20240712T210000
DTSTAMP:20260424T094147
CREATED:20240705T054837Z
LAST-MODIFIED:20240705T054837Z
UID:10000740-1720810800-1720818000@www.xixona.es
SUMMARY:Música y juegos populares con La Colleta
DESCRIPTION:El viernes 12 de julio\, a partir de las 19.00 h\, en el Cuernero música con los educandos de la Colla de Dolçainers i Tabaleters Els Arreplegats de Xixona y diversión con el taller de empleo Acció cultural Xixona 2024. Os esperamos a todos y todas.
URL:https://www.xixona.es/event/musica-y-juegos-populares-con-la-colleta/
LOCATION:03-Alicante/Alacant
CATEGORIES:Actividad,Concierto
ATTACH;FMTTYPE=image/png:https://www.xixona.es/wp-content/uploads/2025/01/Cartell-A4.png
END:VEVENT
BEGIN:VEVENT
DTSTART;TZID=Europe/Madrid:20240713T200000
DTEND;TZID=Europe/Madrid:20240713T220000
DTSTAMP:20260424T094147
CREATED:20240625T103156Z
LAST-MODIFIED:20240625T103156Z
UID:10000734-1720900800-1720908000@www.xixona.es
SUMMARY:XV Muestra de Folclore
DESCRIPTION:El Grupo Municipal de Danzas El Guindo de Renedo de Esgueva (Valladolid) y el Grup de Danses de Xixona protagonizan la XV Muestra de Folclore de Xixona\, a partir de las 20.30 h\, en el Barranc de la Font.
URL:https://www.xixona.es/event/xv-muestra-de-folclore/
LOCATION:03-Alicante/Alacant
CATEGORIES:Danza
ATTACH;FMTTYPE=image/jpeg:https://www.xixona.es/wp-content/uploads/2025/01/CARTELL-MOSTRA-2024-NORMAL.jpeg
END:VEVENT
BEGIN:VEVENT
DTSTART;TZID=Europe/Madrid:20240715T200000
DTEND;TZID=Europe/Madrid:20240715T220000
DTSTAMP:20260424T094147
CREATED:20240705T055316Z
LAST-MODIFIED:20240705T055316Z
UID:10000742-1721073600-1721080800@www.xixona.es
SUMMARY:Actuación del mago Magulini
DESCRIPTION:Dentro de los actos de la Semana Cultural de la Tercera Edad\, tendrá lugar la actuación del mago Magulini\, el lunes 15 de julio\, a las 20.00 h\, en el Club de la Tercera Edad.
URL:https://www.xixona.es/event/actuacion-del-mago-magulini/
LOCATION:03-Alicante/Alacant
CATEGORIES:Actividad
ATTACH;FMTTYPE=image/png:https://www.xixona.es/wp-content/uploads/2025/01/04-CARTEL-SHOW-DE-MAGIA.png
END:VEVENT
BEGIN:VEVENT
DTSTART;TZID=Europe/Madrid:20240716T200000
DTEND;TZID=Europe/Madrid:20240716T210000
DTSTAMP:20260424T094147
CREATED:20240705T061354Z
LAST-MODIFIED:20240705T061354Z
UID:10000744-1721160000-1721163600@www.xixona.es
SUMMARY:Contes a la fresca
DESCRIPTION:Cuentacuentos y animación para niños y niñas en el barrio de Segorb (calle Jaume I)\, a las 20.00 h\, el martes 16 de julio.
URL:https://www.xixona.es/event/contes-a-la-fresca-3-2/
LOCATION:03-Alicante/Alacant
CATEGORIES:Actividad
ATTACH;FMTTYPE=image/jpeg:https://www.xixona.es/wp-content/uploads/2025/01/Cartell-A4_El-gegant-del-forat-de-la-penya_16_07_2024.jpg
END:VEVENT
BEGIN:VEVENT
DTSTART;TZID=Europe/Madrid:20240719T200000
DTEND;TZID=Europe/Madrid:20240719T213000
DTSTAMP:20260424T094147
CREATED:20240705T060444Z
LAST-MODIFIED:20240705T060444Z
UID:10000743-1721419200-1721424600@www.xixona.es
SUMMARY:Concierto lírico
DESCRIPTION:Dentro de los actos de la Semana Cultural de la Tercera Edad\, el viernes 19 de julio\, a las 20.00 h\, en el Cine de Dalt\, tendrá lugar la actuación de la Agrupación Lírica de Elda\, con el repertorio lírico de la zarzuela La verbena de la paloma. Esta actuación queda dentro de la campaña Música y teatro 2024\, de la Diputación de Alicante.
URL:https://www.xixona.es/event/concierto-lirico/
LOCATION:03-Alicante/Alacant
CATEGORIES:Concierto
ATTACH;FMTTYPE=image/jpeg:https://www.xixona.es/wp-content/uploads/2025/01/19-de-JULIOL-DE-2024-20.00-h-CINE-DE-DALT.jpg
END:VEVENT
BEGIN:VEVENT
DTSTART;TZID=Europe/Madrid:20240720T213000
DTEND;TZID=Europe/Madrid:20240720T230000
DTSTAMP:20260424T094147
CREATED:20240716T102420Z
LAST-MODIFIED:20240716T102420Z
UID:10000749-1721511000-1721516400@www.xixona.es
SUMMARY:Presentación de cargos festeros
DESCRIPTION:Este sábado 20 de julio\, la Federació de Festes de Sant Bartomeu i Sant Sebastià dará el pistoletazo de salida a los actos de fiestas con la presentación de cargos festeros\, la entrega de la batuta al director del himno de fiestas y el homenaje a los festeros o festeras del año. Un enmarcado por la música festera de la Unión Musical de Xixona.
URL:https://www.xixona.es/event/presentacion-de-cargos-festeros/
LOCATION:03-Alicante/Alacant
CATEGORIES:Actividad,Concierto
ATTACH;FMTTYPE=image/jpeg:https://www.xixona.es/wp-content/uploads/2025/01/Carteles-fiestas_20240715_183808_0000-001-scaled.jpg
END:VEVENT
BEGIN:VEVENT
DTSTART;TZID=Europe/Madrid:20240726T163000
DTEND;TZID=Europe/Madrid:20240726T203000
DTSTAMP:20260424T094147
CREATED:20240716T104105Z
LAST-MODIFIED:20240716T104105Z
UID:10000752-1722011400-1722025800@www.xixona.es
SUMMARY:Donación de sangre
DESCRIPTION:Estamos en verano\, hace calor\, aún así no te olvides de dar sangre el próximo viernes 26 de julio. Puedes salvar vidas.
URL:https://www.xixona.es/event/donacion-de-sangre-8/
LOCATION:03-Alicante/Alacant
CATEGORIES:Actividad
ATTACH;FMTTYPE=image/jpeg:https://www.xixona.es/wp-content/uploads/2025/01/26-07-2024-XIXONA-SOCIEDAD-CULTURAL-EL-TRABAJOV.jpg
END:VEVENT
BEGIN:VEVENT
DTSTART;TZID=Europe/Madrid:20240727T090000
DTEND;TZID=Europe/Madrid:20240727T233000
DTSTAMP:20260424T094147
CREATED:20240716T104725Z
LAST-MODIFIED:20240716T104725Z
UID:10000754-1722070800-1722123000@www.xixona.es
SUMMARY:Dia del Senyal
DESCRIPTION:Actos del Dia del Senyal.
URL:https://www.xixona.es/event/dia-del-senyal-2/
LOCATION:03-Alicante/Alacant
CATEGORIES:Actividad
ATTACH;FMTTYPE=image/jpeg:https://www.xixona.es/wp-content/uploads/2025/01/Carteles-fiestas_20240715_183808_0000-002-scaled.jpg
END:VEVENT
BEGIN:VEVENT
DTSTART;TZID=Europe/Madrid:20240729T090000
DTEND;TZID=Europe/Madrid:20240729T180000
DTSTAMP:20260424T094147
CREATED:20240708T111339Z
LAST-MODIFIED:20240708T111339Z
UID:10000746-1722243600-1722276000@www.xixona.es
SUMMARY:Excursión del AFA
DESCRIPTION:Apúntate a la excursión a la playa de Sant Joan d’Alacant con el AFA este 29 de julio.
URL:https://www.xixona.es/event/excursion-del-afa/
LOCATION:03-Alicante/Alacant
CATEGORIES:Actividad
ATTACH;FMTTYPE=image/png:https://www.xixona.es/wp-content/uploads/2025/01/Viaje-San-Juan-2024-1.png
END:VEVENT
BEGIN:VEVENT
DTSTART;TZID=Europe/Madrid:20240801T220000
DTEND;TZID=Europe/Madrid:20240801T233000
DTSTAMP:20260424T094147
CREATED:20240726T055717Z
LAST-MODIFIED:20240726T055717Z
UID:10000761-1722549600-1722555000@www.xixona.es
SUMMARY:Cine de verano
DESCRIPTION:Inauguramos el mes de agosto con el cine a la fresca y la proyección Super Mario Bros en el barrio de l’Almarx (c/ Josep Maria Semper).
URL:https://www.xixona.es/event/cine-de-verano/
LOCATION:03-Alicante/Alacant
CATEGORIES:Cine
ATTACH;FMTTYPE=image/png:https://www.xixona.es/wp-content/uploads/2025/01/Cartell_1_Super-Mario-Bros-2.png
END:VEVENT
BEGIN:VEVENT
DTSTART;TZID=Europe/Madrid:20240801T220000
DTEND;TZID=Europe/Madrid:20240801T233000
DTSTAMP:20260424T094147
CREATED:20240726T055717Z
LAST-MODIFIED:20240726T055717Z
UID:10000762-1722549600-1722555000@www.xixona.es
SUMMARY:Cine d'estiu
DESCRIPTION:Inaugurem el mes d’agost amb el cine a la fresca i la projecció Super Mario Bros en el barri de l’Almarx (c/ Josep Maria Semper).
URL:https://www.xixona.es/event/cine-destiu/
LOCATION:03-Alicante/Alacant
CATEGORIES:Cine
ATTACH;FMTTYPE=image/png:https://www.xixona.es/wp-content/uploads/2025/01/Cartell_1_Super-Mario-Bros-2.png
END:VEVENT
BEGIN:VEVENT
DTSTART;TZID=Europe/Madrid:20240802T220000
DTEND;TZID=Europe/Madrid:20240802T230000
DTSTAMP:20260424T094147
CREATED:20240716T111800Z
LAST-MODIFIED:20240716T111800Z
UID:10000760-1722636000-1722639600@www.xixona.es
SUMMARY:Diàleg entre música i natura
DESCRIPTION:El joven promesa Aitor Herrero Torregrosa nos presenta un concierto de xilófono que representa un diálogo entre música y naturaleza\, con la colaboración de Iván Ortuño y Claudia Llerena.
URL:https://www.xixona.es/event/dialeg-entre-musica-i-natura-2/
LOCATION:03-Alicante/Alacant
CATEGORIES:Concierto
ATTACH;FMTTYPE=image/jpeg:https://www.xixona.es/wp-content/uploads/2025/01/cartellAitor.jpg
END:VEVENT
BEGIN:VEVENT
DTSTART;TZID=Europe/Madrid:20240803T233000
DTEND;TZID=Europe/Madrid:20240803T233000
DTSTAMP:20260424T094147
CREATED:20240726T085929Z
LAST-MODIFIED:20240726T085929Z
UID:10000772-1722727800-1722727800@www.xixona.es
SUMMARY:Maluks y Esther en concierto
DESCRIPTION:Después del correfoc\, os espera en el Barranc de la Font un concierto en femenino con Maluks y Esther.
URL:https://www.xixona.es/event/maluks-y-esther-en-concierto/
LOCATION:03-Alicante/Alacant
CATEGORIES:Concierto
ATTACH;FMTTYPE=image/png:https://www.xixona.es/wp-content/uploads/2025/01/Cartell-A4_Maluks_Esther.png
END:VEVENT
BEGIN:VEVENT
DTSTART;TZID=Europe/Madrid:20240804T203000
DTEND;TZID=Europe/Madrid:20240804T220000
DTSTAMP:20260424T094147
CREATED:20240716T110241Z
LAST-MODIFIED:20240716T110241Z
UID:10000757-1722803400-1722808800@www.xixona.es
SUMMARY:Festirock
DESCRIPTION:Un año más\, clausuramos la Escola de Rock Mugroman 2024 con el Festirock\, donde los pequeños rockeros y rockeras nos mostrarán  todo lo aprendido durante un mes de clase.
URL:https://www.xixona.es/event/festirock-2-3/
LOCATION:03-Alicante/Alacant
CATEGORIES:Concierto
ATTACH;FMTTYPE=image/jpeg:https://www.xixona.es/wp-content/uploads/2025/01/2024-FESTIROCK-1.jpg
END:VEVENT
BEGIN:VEVENT
DTSTART;TZID=Europe/Madrid:20240808T220000
DTEND;TZID=Europe/Madrid:20240808T233000
DTSTAMP:20260424T094147
CREATED:20240726T060242Z
LAST-MODIFIED:20240726T060242Z
UID:10000763-1723154400-1723159800@www.xixona.es
SUMMARY:Cine de verano
DESCRIPTION:Segunda proyección de cine de verano con Campeonex en el barrio de Segorb (c/ Jaume I).
URL:https://www.xixona.es/event/cine-de-verano-2/
LOCATION:03-Alicante/Alacant
CATEGORIES:Cine
ATTACH;FMTTYPE=image/png:https://www.xixona.es/wp-content/uploads/2025/01/Cartell_8_Campeonex.png
END:VEVENT
END:VCALENDAR