BEGIN:VCALENDAR
VERSION:2.0
PRODID:-//Ajuntament de Xixona - ECPv6.15.15//NONSGML v1.0//EN
CALSCALE:GREGORIAN
METHOD:PUBLISH
X-ORIGINAL-URL:https://www.xixona.es
X-WR-CALDESC:Eventos para Ajuntament de Xixona
REFRESH-INTERVAL;VALUE=DURATION:PT1H
X-Robots-Tag:noindex
X-PUBLISHED-TTL:PT1H
BEGIN:VTIMEZONE
TZID:Europe/Madrid
BEGIN:DAYLIGHT
TZOFFSETFROM:+0100
TZOFFSETTO:+0200
TZNAME:CEST
DTSTART:20240331T010000
END:DAYLIGHT
BEGIN:STANDARD
TZOFFSETFROM:+0200
TZOFFSETTO:+0100
TZNAME:CET
DTSTART:20241027T010000
END:STANDARD
BEGIN:DAYLIGHT
TZOFFSETFROM:+0100
TZOFFSETTO:+0200
TZNAME:CEST
DTSTART:20250330T010000
END:DAYLIGHT
BEGIN:STANDARD
TZOFFSETFROM:+0200
TZOFFSETTO:+0100
TZNAME:CET
DTSTART:20251026T010000
END:STANDARD
BEGIN:DAYLIGHT
TZOFFSETFROM:+0100
TZOFFSETTO:+0200
TZNAME:CEST
DTSTART:20260329T010000
END:DAYLIGHT
BEGIN:STANDARD
TZOFFSETFROM:+0200
TZOFFSETTO:+0100
TZNAME:CET
DTSTART:20261025T010000
END:STANDARD
END:VTIMEZONE
BEGIN:VEVENT
DTSTART;VALUE=DATE:20250509
DTEND;VALUE=DATE:20250510
DTSTAMP:20260423T172725
CREATED:20250505T103422Z
LAST-MODIFIED:20250626T113057Z
UID:10000894-1746748800-1746835199@www.xixona.es
SUMMARY:Maratón de donación de sangre
DESCRIPTION:La Concejalía de Sanidad y el Centro de Transfusión de Sangre de la Comunitat Valenciana han organizado esta maratón solidaria con la participación de empresas locales. Ven\, participa\, y te podrás llevar premios.
URL:https://www.xixona.es/event/maraton-de-donacion-de-sangre/
LOCATION:03-Alicante/Alacant
CATEGORIES:Actividad
ATTACH;FMTTYPE=image/png:https://www.xixona.es/wp-content/uploads/2025/05/Marato-Post-de-Instagram-45.png
END:VEVENT
BEGIN:VEVENT
DTSTART;VALUE=DATE:20250509
DTEND;VALUE=DATE:20250510
DTSTAMP:20260423T172725
CREATED:20250505T104449Z
LAST-MODIFIED:20250626T113045Z
UID:10000893-1746748800-1746835199@www.xixona.es
SUMMARY:XVI Gala del Deporte
DESCRIPTION:El deporte en Xixona se viste de gala este próximo 9 de mayo en el Cine de Dalt\, con el merecido homenaje a deportistas y clubs locales.
URL:https://www.xixona.es/event/xvi-gala-del-deporte/
LOCATION:03-Alicante/Alacant
CATEGORIES:Actividad
END:VEVENT
BEGIN:VEVENT
DTSTART;VALUE=DATE:20250510
DTEND;VALUE=DATE:20250511
DTSTAMP:20260423T172725
CREATED:20250430T104612Z
LAST-MODIFIED:20250626T113226Z
UID:10000896-1746835200-1746921599@www.xixona.es
SUMMARY:III Fiesta del Casco Histórico
DESCRIPTION:Celebramos el Día de los Cascos Históricos con una fiesta en la Plaça del Castell con actividades familiares a partir de las 18.00 h\, barra con bebida y comida\, música\, etc. No te lo pierdas! 
URL:https://www.xixona.es/event/fiesta-del-casco-antiguo/
LOCATION:03-Alicante/Alacant
CATEGORIES:Actividad
ATTACH;FMTTYPE=image/jpeg:https://www.xixona.es/wp-content/uploads/2025/04/Nucli-antic.jpg
END:VEVENT
BEGIN:VEVENT
DTSTART;VALUE=DATE:20250514
DTEND;VALUE=DATE:20250515
DTSTAMP:20260423T172725
CREATED:20250408T103201Z
LAST-MODIFIED:20250626T113413Z
UID:10000900-1747180800-1747267199@www.xixona.es
SUMMARY:Curso básico renovación carnet fitosanitarios
DESCRIPTION:Por razones ajenas al Ayuntamiento el curso se realizará el día 14 de mayo\, en lugar del 13 de mayo\, en el mismo horario.
URL:https://www.xixona.es/event/curso-basico-renovacion-carnet-fitosanitarios/
LOCATION:03-Alicante/Alacant
CATEGORIES:Curso
END:VEVENT
BEGIN:VEVENT
DTSTART;VALUE=DATE:20250515
DTEND;VALUE=DATE:20250516
DTSTAMP:20260423T172725
CREATED:20250505T105904Z
LAST-MODIFIED:20250626T113033Z
UID:10000892-1747267200-1747353599@www.xixona.es
SUMMARY:Charla para familias sobre TCA
DESCRIPTION:Andrea Carrejón\, psicóloga especialista en trauma y trastornos de la conducta alimentaria en adolescentes\, se dirigirá a las familias para explicar cómo debemos actuar en estos casos.
URL:https://www.xixona.es/event/charla-para-familias-sobre-tca/
LOCATION:03-Alicante/Alacant
CATEGORIES:Actividad
ATTACH;FMTTYPE=image/png:https://www.xixona.es/wp-content/uploads/2025/05/INSTA-Xarrada-TCA-families.png
END:VEVENT
BEGIN:VEVENT
DTSTART;VALUE=DATE:20250517
DTEND;VALUE=DATE:20250518
DTSTAMP:20260423T172725
CREATED:20250430T111955Z
LAST-MODIFIED:20250626T113112Z
UID:10000895-1747440000-1747526399@www.xixona.es
SUMMARY:Festival de Primavera del Grup de Danses de Xixona
DESCRIPTION:El Grup de Danses de Xixona celebra su Festival de Primavera con el Grup de Danses de Cocentaina invitado en el Cine de Dalt. El acceso es libre hasta completar el aforo de la sala. \n \n  \n 
URL:https://www.xixona.es/event/festival-de-primavera-del-grup-de-danses-de-xixona/
LOCATION:03-Alicante/Alacant
CATEGORIES:Danza
ATTACH;FMTTYPE=image/jpeg:https://www.xixona.es/wp-content/uploads/2025/04/CARTELL-A4-FESTIVAL-PRIMAVERA-2025.jpg
END:VEVENT
BEGIN:VEVENT
DTSTART;VALUE=DATE:20250518
DTEND;VALUE=DATE:20250519
DTSTAMP:20260423T172725
CREATED:20250514T083654Z
LAST-MODIFIED:20250626T113009Z
UID:10000890-1747526400-1747612799@www.xixona.es
SUMMARY:Concierto de intercambio musical
DESCRIPTION:Este domingo 18 de mayo\, se celebrará en el Cine de Dalt un concierto con la Asociación Musical L’Avanç del Campello y la Agrupación Artisticomusical El Trabajo de Xixona\, dentro de la XXII Campanya de Conciertos de Intercambios Musicales.
URL:https://www.xixona.es/event/concierto-de-intercambio-musical/
LOCATION:03-Alicante/Alacant
CATEGORIES:Concierto
ATTACH;FMTTYPE=image/jpeg:https://www.xixona.es/wp-content/uploads/2025/05/Cartell-Intercanvi-cultural.jpeg
END:VEVENT
BEGIN:VEVENT
DTSTART;VALUE=DATE:20250524
DTEND;VALUE=DATE:20250525
DTSTAMP:20260423T172725
CREATED:20250515T054630Z
LAST-MODIFIED:20250626T112532Z
UID:10000884-1748044800-1748131199@www.xixona.es
SUMMARY:Concierto de Els Arreplegats
DESCRIPTION:Un passeig per la Mariola es el título del concierto que nos ofrecerá el sábado 24 de mayo la Colla de Doláiners i Tabaleters Els Arreplegats de Xixona\, bajo la dirección de Toni Vidal Vidal\, en el Cine de Dalt.
URL:https://www.xixona.es/event/concierto-de-els-arreplegats/
LOCATION:03-Alicante/Alacant
CATEGORIES:Concierto
ATTACH;FMTTYPE=image/jpeg:https://www.xixona.es/wp-content/uploads/2025/05/cartell_colla_v9.jpeg
END:VEVENT
BEGIN:VEVENT
DTSTART;VALUE=DATE:20250528
DTEND;VALUE=DATE:20250529
DTSTAMP:20260423T172725
CREATED:20250514T082550Z
LAST-MODIFIED:20250626T113021Z
UID:10000891-1748390400-1748476799@www.xixona.es
SUMMARY:Charla sobre menopausia
DESCRIPTION:Charla a cargo de Verónica Miquel Cremades en la Casa de Cultura\, a las 18.30 h\, el miércoles 28 de mayo.
URL:https://www.xixona.es/event/charla-sobre-menopausia/
LOCATION:03-Alicante/Alacant
CATEGORIES:Actividad
ATTACH;FMTTYPE=image/jpeg:https://www.xixona.es/wp-content/uploads/2025/05/Menopausia.jpg
END:VEVENT
BEGIN:VEVENT
DTSTART;VALUE=DATE:20250601
DTEND;VALUE=DATE:20250602
DTSTAMP:20260423T172725
CREATED:20250514T095718Z
LAST-MODIFIED:20250626T112908Z
UID:10000889-1748736000-1748822399@www.xixona.es
SUMMARY:III Día del Fútbol
DESCRIPTION:Por tercer año consecutivo celebramos en familia el Día del Fútbol el domingo 1 de junio\, a partir de las 9.00 h. Las inscripciones ya están abiertas en: esports@xixona.es o en el 965 61 07 02.
URL:https://www.xixona.es/event/iii-dia-del-futbol/
LOCATION:03-Alicante/Alacant
CATEGORIES:Actividad
ATTACH;FMTTYPE=image/jpeg:https://www.xixona.es/wp-content/uploads/2025/05/11.-Cartel-dia-del-futbol-1.jpg
END:VEVENT
BEGIN:VEVENT
DTSTART;VALUE=DATE:20250607
DTEND;VALUE=DATE:20250608
DTSTAMP:20260423T172725
CREATED:20250514T105717Z
LAST-MODIFIED:20250626T112745Z
UID:10000885-1749254400-1749340799@www.xixona.es
SUMMARY:XII horas de futbol sala
DESCRIPTION:
URL:https://www.xixona.es/event/xii-horas-de-futbol-sala/
LOCATION:03-Alicante/Alacant
CATEGORIES:Actividad
ATTACH;FMTTYPE=image/jpeg:https://www.xixona.es/wp-content/uploads/2025/05/7.-Cartell-12-hores-futbol-sala-2025.jpg
END:VEVENT
BEGIN:VEVENT
DTSTART;VALUE=DATE:20250607
DTEND;VALUE=DATE:20250608
DTSTAMP:20260423T172725
CREATED:20250604T092515Z
LAST-MODIFIED:20250626T112829Z
UID:10000886-1749254400-1749340799@www.xixona.es
SUMMARY:Presentación de "Diània\, terra de castells"
DESCRIPTION:Just I. Sellés presenta su último libro\, de gran contenido fotográfico\, Diània\, terra de castells donde recoge las fortificaciones que se extienden a lo largo y ancho de l territorio diánico. En la presentación se proyectará el audiovisual Terra forta. Paisatges fortificats.
URL:https://www.xixona.es/event/presentacion-de-diania-terra-de-castells/
LOCATION:03-Alicante/Alacant
CATEGORIES:Actividad
END:VEVENT
BEGIN:VEVENT
DTSTART;VALUE=DATE:20250607
DTEND;VALUE=DATE:20250608
DTSTAMP:20260423T172725
CREATED:20250604T093518Z
LAST-MODIFIED:20250626T112325Z
UID:10000883-1749254400-1749340799@www.xixona.es
SUMMARY:XII Horas de Fútbol Sala Xixona 2025
DESCRIPTION:El día 7 se celebran las XII Horas de Futbol Sala  2025 en su categoría de infantil y cadete. El encuentro tendrá lugar en el polideportivo municipal\, hecho que coincide con la apertura de la temporada de la piscina.
URL:https://www.xixona.es/event/xii-horas-de-futbol-sala-xixona-2025/
LOCATION:03-Alicante/Alacant
CATEGORIES:Actividad
ATTACH;FMTTYPE=image/jpeg:https://www.xixona.es/wp-content/uploads/2025/05/7.-Cartell-12-hores-futbol-sala-2025.jpg
END:VEVENT
BEGIN:VEVENT
DTSTART;VALUE=DATE:20250607
DTEND;VALUE=DATE:20250608
DTSTAMP:20260423T172725
CREATED:20250604T095605Z
LAST-MODIFIED:20250704T104606Z
UID:10000882-1749254400-1749340799@www.xixona.es
SUMMARY:Inauguración temporada 2025 piscina municipal
DESCRIPTION:Del sábado 7 de junio al 14 de septiembre estará abierta la piscina del polideportivo con horarios para baño libre que podéis consultar.
URL:https://www.xixona.es/event/inauguracion-temporada-de-piscina-del-polideportivo/
LOCATION:03-Alicante/Alacant
CATEGORIES:Actividad
ATTACH;FMTTYPE=image/jpeg:https://www.xixona.es/wp-content/uploads/2025/05/4.-CARTELL-TEMPORADA-PISCINA-POLIESPORTIU-2025.jpg
END:VEVENT
BEGIN:VEVENT
DTSTART;VALUE=DATE:20250607
DTEND;VALUE=DATE:20250608
DTSTAMP:20260423T172725
CREATED:20250604T102928Z
LAST-MODIFIED:20250626T112144Z
UID:10000881-1749254400-1749340799@www.xixona.es
SUMMARY:Campaña "Contra la basuraleza"
DESCRIPTION: 
URL:https://www.xixona.es/event/campana-contra-la-basuraleza/
LOCATION:03-Alicante/Alacant
CATEGORIES:Actividad
ATTACH;FMTTYPE=image/png:https://www.xixona.es/wp-content/uploads/2025/06/Instagram-basuraleza.png
END:VEVENT
BEGIN:VEVENT
DTSTART;VALUE=DATE:20250610
DTEND;VALUE=DATE:20250611
DTSTAMP:20260423T172725
CREATED:20250604T103231Z
LAST-MODIFIED:20250626T112119Z
UID:10000880-1749513600-1749599999@www.xixona.es
SUMMARY:Campaña de donación de sangre
DESCRIPTION:
URL:https://www.xixona.es/event/campana-de-donacion-de-sangre/
LOCATION:03-Alicante/Alacant
CATEGORIES:Actividad
ATTACH;FMTTYPE=image/png:https://www.xixona.es/wp-content/uploads/2025/06/INSTAGRAM-DONANTERS.png
END:VEVENT
BEGIN:VEVENT
DTSTART;VALUE=DATE:20250611
DTEND;VALUE=DATE:20250612
DTSTAMP:20260423T172725
CREATED:20250514T104723Z
LAST-MODIFIED:20250626T112856Z
UID:10000888-1749600000-1749686399@www.xixona.es
SUMMARY:Fin de curso escuelas deportivas 2024-2025
DESCRIPTION:El miércoles 11 de junio a las 17.30 h el alumnado de las escuelas deportivas nos harán una demostración de lo que han aprendido durante el curso 2024-2025 a partir de las 17.30 h en el polideportivo.
URL:https://www.xixona.es/event/fin-de-curso-escuelas-deportivas-2024-2025/
LOCATION:03-Alicante/Alacant
CATEGORIES:Actividad
ATTACH;FMTTYPE=image/jpeg:https://www.xixona.es/wp-content/uploads/2025/05/3.-Cartell-Fi-de-curs-escoles-esportives-2024-2025.jpg
END:VEVENT
BEGIN:VEVENT
DTSTART;VALUE=DATE:20250612
DTEND;VALUE=DATE:20250613
DTSTAMP:20260423T172725
CREATED:20250514T105253Z
LAST-MODIFIED:20250626T112843Z
UID:10000887-1749686400-1749772799@www.xixona.es
SUMMARY:Fin de curso escuela infantil de natación
DESCRIPTION:El alumnado infantil de los cursos de natación celebrarán su fin de curso el jueves 12 de junio\, a las 19.00 h en la pinada del polideportivo.
URL:https://www.xixona.es/event/fin-de-curso-escuela-infantil-de-natacion/
LOCATION:03-Alicante/Alacant
CATEGORIES:Actividad
END:VEVENT
BEGIN:VEVENT
DTSTART;VALUE=DATE:20250614
DTEND;VALUE=DATE:20250615
DTSTAMP:20260423T172725
CREATED:20250604T103843Z
LAST-MODIFIED:20250626T112108Z
UID:10000879-1749859200-1749945599@www.xixona.es
SUMMARY:XII Horas de Fútbol Sala
DESCRIPTION:El sábado 14 de junio se celebra la jornada deportiva de fútbol sala en las categorías de alevín y benjamín.
URL:https://www.xixona.es/event/xii-horas-de-futbol-sala-2/
LOCATION:03-Alicante/Alacant
CATEGORIES:Actividad
END:VEVENT
BEGIN:VEVENT
DTSTART;VALUE=DATE:20250617
DTEND;VALUE=DATE:20250618
DTSTAMP:20260423T172725
CREATED:20250617T073318Z
LAST-MODIFIED:20250626T112101Z
UID:10000878-1750118400-1750204799@www.xixona.es
SUMMARY:Charla para familias sobre cosmeticorexia
DESCRIPTION:Infórmate sobre un problema que empieza a detectarse entre los más jóvenes\, este martes 17 de junio\, a las 19.00 h\, en la Casa de Cultura.
URL:https://www.xixona.es/event/charla-para-familias-sobre-cosmeticorexia/
LOCATION:03-Alicante/Alacant
CATEGORIES:Actividad
END:VEVENT
BEGIN:VEVENT
DTSTART;VALUE=DATE:20250619
DTEND;VALUE=DATE:20250621
DTSTAMP:20260423T172725
CREATED:20250617T083016Z
LAST-MODIFIED:20250626T112052Z
UID:10000877-1750291200-1750463999@www.xixona.es
SUMMARY:Cuentacuentos y taller
DESCRIPTION:¡Pásatelo en grande el 19 y 20 de junio en la biblioteca municipal con los cuentacuentos y animación que te hemos preparado!
URL:https://www.xixona.es/event/cuentacuentos-en-la-biblioteca-y-taller/
LOCATION:03-Alicante/Alacant
CATEGORIES:Actividad
ATTACH;FMTTYPE=image/png:https://www.xixona.es/wp-content/uploads/2025/06/Cartell-Conta-contes-BIblioteca.png
END:VEVENT
BEGIN:VEVENT
DTSTART;VALUE=DATE:20250619
DTEND;VALUE=DATE:20250620
DTSTAMP:20260423T172726
CREATED:20250617T085134Z
LAST-MODIFIED:20250626T112040Z
UID:10000876-1750291200-1750377599@www.xixona.es
SUMMARY:Audición de la Escuela de Música AAM El Trabajo de Xixona
DESCRIPTION:El jueves 19 de junio\, a las 19.00 h\, la Escuela de Música de la Agrupación Artisticomusical El Trabajo de Xixona nos llevará a Disco Vibes en el parque del Cuernero (antigua biblioteca).
URL:https://www.xixona.es/event/audicion-de-la-escuela-de-musica-aam-el-trabajo-de-xixona/
LOCATION:03-Alicante/Alacant
CATEGORIES:Actividad
ATTACH;FMTTYPE=image/jpeg:https://www.xixona.es/wp-content/uploads/2025/06/CARTELL-A4_AudicioEscolademusica.jpeg
END:VEVENT
BEGIN:VEVENT
DTSTART;VALUE=DATE:20250620
DTEND;VALUE=DATE:20250621
DTSTAMP:20260423T172726
CREATED:20250617T085738Z
LAST-MODIFIED:20250626T111957Z
UID:10000875-1750377600-1750463999@www.xixona.es
SUMMARY:Audición de guitarra
DESCRIPTION:El viernes 20 de junio\, a las 18.00 h\, en la Casa de la Música\, el alumnado de guitarra demostrará todo lo aprendido durante el curso 2024-2025.
URL:https://www.xixona.es/event/audicion-de-guitarra/
LOCATION:03-Alicante/Alacant
CATEGORIES:Actividad
END:VEVENT
BEGIN:VEVENT
DTSTART;VALUE=DATE:20250620
DTEND;VALUE=DATE:20250623
DTSTAMP:20260423T172726
CREATED:20250617T091633Z
LAST-MODIFIED:20250626T111934Z
UID:10000874-1750377600-1750636799@www.xixona.es
SUMMARY:Exposición del taller de costura
DESCRIPTION:Durante el fin de semana del 20 al 22 de junio se expondrán los trabajos realizados durante el taller de costura 2024-2025. El viernes 20\, a las 20.00 h\, realizarán un desfile de moda con la ropa confeccionada.
URL:https://www.xixona.es/event/exposicio-del-taller-de-costura/
LOCATION:03-Alicante/Alacant
CATEGORIES:Actividad,Exposición
ATTACH;FMTTYPE=image/png:https://www.xixona.es/wp-content/uploads/2025/06/TALLER-COSTURA-Post-de-Instagram-45.png
END:VEVENT
BEGIN:VEVENT
DTSTART;VALUE=DATE:20250620
DTEND;VALUE=DATE:20250621
DTSTAMP:20260423T172726
CREATED:19691231T230000Z
LAST-MODIFIED:20250626T114436Z
UID:10000925-1750377600-1750463999@www.xixona.es
SUMMARY:Día Internacional del Orgullo LGBTIQ+
DESCRIPTION:¡Ven y celebra con nosotros el orgullo de querer a quien tu quieras! Participa en las actividades del Espai Jove dirigidas a jóvenes de 12 a 30 años\, los viernes 20 y 27 de junio y el sábado 28.
URL:https://www.xixona.es/event/dia-internacional-del-orgullo-lgbtiq/2025-06-20/2/
LOCATION:03-Alicante/Alacant
ATTACH;FMTTYPE=image/png:https://www.xixona.es/wp-content/uploads/2025/06/Orgull-Xixona-2025-1080-x-1080-px.png
END:VEVENT
BEGIN:VEVENT
DTSTART;VALUE=DATE:20250627
DTEND;VALUE=DATE:20250628
DTSTAMP:20260423T172726
CREATED:20250617T095617Z
LAST-MODIFIED:20250626T111919Z
UID:10000873-1750982400-1751068799@www.xixona.es
SUMMARY:Teatro "Asamblea de mujeres"
DESCRIPTION:El taller de teatro de la Sede Universitaria de Xixona presenta la obra Asamblea de mujeres\, una comedia teatral de Aristófanes escrita el año 392 aC\,  dirigida y adaptada por Elizabeth Sogorb\, el próximo viernes 27 de junio\, en el Cine de Dalt\, a las 20.00 h. La entrada será libre hasta agotar la capacidad de la sala.
URL:https://www.xixona.es/event/teatro-asamblea-de-mujeres/
LOCATION:03-Alicante/Alacant
CATEGORIES:Teatro
ATTACH;FMTTYPE=image/png:https://www.xixona.es/wp-content/uploads/2025/06/Teatre-UA.png
END:VEVENT
BEGIN:VEVENT
DTSTART;TZID=Europe/Madrid:20250628T000000
DTEND;TZID=Europe/Madrid:20250628T000000
DTSTAMP:20260423T172726
CREATED:20250617T101956Z
LAST-MODIFIED:20250626T103322Z
UID:10000001-1751068800-1751068800@www.xixona.es
SUMMARY:Sopar de Cabasset 2025
DESCRIPTION:Y como ya es habitual\, celebramos nuestro sopar de Cabasset 2025\, el sábado 28 de junio\, con actuaciones\, concursos y mucho ambiente a partir de las 19.00 h. ¡No faltes! \n 
URL:https://www.xixona.es/event/sopar-de-cabasset-2025/
LOCATION:03-Alicante/Alacant
CATEGORIES:Actividad
ATTACH;FMTTYPE=image/png:https://www.xixona.es/wp-content/uploads/2025/06/cabssst25-1.png
END:VEVENT
BEGIN:VEVENT
DTSTART;TZID=Europe/Madrid:20250719T210000
DTEND;TZID=Europe/Madrid:20250719T230000
DTSTAMP:20260423T172726
CREATED:20250704T110109Z
LAST-MODIFIED:20250704T112847Z
UID:10000928-1752958800-1752966000@www.xixona.es
SUMMARY:Presentació càrrecs Festers\, batuta i Festers de l'any 2025
DESCRIPTION:
URL:https://www.xixona.es/event/presentacio-carrecs-festers-batuta-i-festers-de-lany-2025/
LOCATION:Parc Barranc de la Font\, Francesc Nicolau Mira Miralles 1\, Xixona\, 03-Alicante/Alacant\, 03100\, Spain
END:VEVENT
BEGIN:VEVENT
DTSTART;TZID=Europe/Madrid:20250927T093000
DTEND;TZID=Europe/Madrid:20250927T133000
DTSTAMP:20260423T172726
CREATED:20250919T093206Z
LAST-MODIFIED:20250919T093206Z
UID:10000929-1758965400-1758979800@www.xixona.es
SUMMARY:Curso cultivo ecológico en balcón o terraza
DESCRIPTION:Curso gratuito. \n27 de septiembre de 9.30h a 13.30h en los huertos urbanos de Jijona. \nInscripción previa: 965610300. Ext.324 / adl@xixona.es
URL:https://www.xixona.es/event/curso-cultivo-ecologico-en-balcon-o-terraza/
LOCATION:03-Alicante/Alacant
CATEGORIES:Curso
END:VEVENT
BEGIN:VEVENT
DTSTART;TZID=Europe/Madrid:20250930T173000
DTEND;TZID=Europe/Madrid:20250930T203000
DTSTAMP:20260423T172726
CREATED:20250919T093729Z
LAST-MODIFIED:20250919T093729Z
UID:10000930-1759253400-1759264200@www.xixona.es
SUMMARY:Taller plantas silvestres en el huerto
DESCRIPTION:Conoce el beneficio de las plantas silvestres para el huerto y para tu salud. Aprende a identificarlas. \nTaller gratuito. \n30 de septiembre de 17.30h a 20.30h en la Casa de Cultura.
URL:https://www.xixona.es/event/taller-plantas-silvestres-en-el-huerto/
LOCATION:03-Alicante/Alacant
CATEGORIES:Curso
END:VEVENT
END:VCALENDAR