BEGIN:VCALENDAR
VERSION:2.0
PRODID:-//Ajuntament de Xixona - ECPv6.15.15//NONSGML v1.0//EN
CALSCALE:GREGORIAN
METHOD:PUBLISH
X-ORIGINAL-URL:https://www.xixona.es
X-WR-CALDESC:Eventos para Ajuntament de Xixona
REFRESH-INTERVAL;VALUE=DURATION:PT1H
X-Robots-Tag:noindex
X-PUBLISHED-TTL:PT1H
BEGIN:VTIMEZONE
TZID:Europe/Madrid
BEGIN:DAYLIGHT
TZOFFSETFROM:+0100
TZOFFSETTO:+0200
TZNAME:CEST
DTSTART:20240331T010000
END:DAYLIGHT
BEGIN:STANDARD
TZOFFSETFROM:+0200
TZOFFSETTO:+0100
TZNAME:CET
DTSTART:20241027T010000
END:STANDARD
BEGIN:DAYLIGHT
TZOFFSETFROM:+0100
TZOFFSETTO:+0200
TZNAME:CEST
DTSTART:20250330T010000
END:DAYLIGHT
BEGIN:STANDARD
TZOFFSETFROM:+0200
TZOFFSETTO:+0100
TZNAME:CET
DTSTART:20251026T010000
END:STANDARD
BEGIN:DAYLIGHT
TZOFFSETFROM:+0100
TZOFFSETTO:+0200
TZNAME:CEST
DTSTART:20260329T010000
END:DAYLIGHT
BEGIN:STANDARD
TZOFFSETFROM:+0200
TZOFFSETTO:+0100
TZNAME:CET
DTSTART:20261025T010000
END:STANDARD
BEGIN:DAYLIGHT
TZOFFSETFROM:+0100
TZOFFSETTO:+0200
TZNAME:CEST
DTSTART:20270328T010000
END:DAYLIGHT
BEGIN:STANDARD
TZOFFSETFROM:+0200
TZOFFSETTO:+0100
TZNAME:CET
DTSTART:20271031T010000
END:STANDARD
END:VTIMEZONE
BEGIN:VEVENT
DTSTART;TZID=Europe/Madrid:20250927T093000
DTEND;TZID=Europe/Madrid:20250927T133000
DTSTAMP:20260423T232924
CREATED:20250919T093206Z
LAST-MODIFIED:20250919T093206Z
UID:10000929-1758965400-1758979800@www.xixona.es
SUMMARY:Curso cultivo ecológico en balcón o terraza
DESCRIPTION:Curso gratuito. \n27 de septiembre de 9.30h a 13.30h en los huertos urbanos de Jijona. \nInscripción previa: 965610300. Ext.324 / adl@xixona.es
URL:https://www.xixona.es/event/curso-cultivo-ecologico-en-balcon-o-terraza/
LOCATION:03-Alicante/Alacant
CATEGORIES:Curso
END:VEVENT
BEGIN:VEVENT
DTSTART;TZID=Europe/Madrid:20250930T173000
DTEND;TZID=Europe/Madrid:20250930T203000
DTSTAMP:20260423T232924
CREATED:20250919T093729Z
LAST-MODIFIED:20250919T093729Z
UID:10000930-1759253400-1759264200@www.xixona.es
SUMMARY:Taller plantas silvestres en el huerto
DESCRIPTION:Conoce el beneficio de las plantas silvestres para el huerto y para tu salud. Aprende a identificarlas. \nTaller gratuito. \n30 de septiembre de 17.30h a 20.30h en la Casa de Cultura.
URL:https://www.xixona.es/event/taller-plantas-silvestres-en-el-huerto/
LOCATION:03-Alicante/Alacant
CATEGORIES:Curso
END:VEVENT
BEGIN:VEVENT
DTSTART;TZID=Europe/Madrid:20251101T070000
DTEND;TZID=Europe/Madrid:20251101T170000
DTSTAMP:20260423T232924
CREATED:20251027T133158Z
LAST-MODIFIED:20251027T133217Z
UID:10000931-1761980400-1762016400@www.xixona.es
SUMMARY:Subida a la Penya de Migjorn
DESCRIPTION:Este año celebramos una edición más de la Pujada a la Penya de Migjorn que tendrá lugar el sábado 1 de noviembre. Más información en: 11a Pujada a la Penya Migjorn – 01/11/2025 | Activitats CEX | Centre Excursionista de Xixona
URL:https://www.xixona.es/event/subida-a-la-penya-de-migjorn/
LOCATION:Ajuntament
CATEGORIES:Actividad
END:VEVENT
BEGIN:VEVENT
DTSTART;TZID=Europe/Madrid:20251102T090000
DTEND;TZID=Europe/Madrid:20251102T180000
DTSTAMP:20260423T232924
CREATED:20251027T134403Z
LAST-MODIFIED:20251027T134403Z
UID:10000932-1762074000-1762106400@www.xixona.es
SUMMARY:Dia de Germanor en Sant Antoni
DESCRIPTION:Este domingo 2 de noviembre celebramos la fiesta que las inclemencias meteorológicas impidieron celebrar el 9 de octubre. Os esperamos a todos y todas en el parque de Sant Antoni: concurso de petanca\, animación familiar y paella.
URL:https://www.xixona.es/event/dia-de-germanor-en-sant-antoni/
LOCATION:Parc de Sant Antoni
CATEGORIES:Actividad
END:VEVENT
BEGIN:VEVENT
DTSTART;TZID=Europe/Madrid:20260212T190000
DTEND;TZID=Europe/Madrid:20260212T200000
DTSTAMP:20260423T232924
CREATED:20260205T141947Z
LAST-MODIFIED:20260205T142048Z
UID:10000933-1770922800-1770926400@www.xixona.es
SUMMARY:Presentación de libro
DESCRIPTION:Para tranquilizar su conciencia agitada. Religiosas secularizadas valencianas en el Trienio Liberal (1820-1823) es el título del libro del historiador\, catedrático e investigador Josep Vicent Ferre Domínguez\, que se presentará el próximo jueves 12 de febrero\, a las 19.00 h\, en la Casa de Cultura. La obra es el resultado de más de una década de investigación rigurosa sobre la vida de las religiosas que abandonaron los conventos durante aquel convulso periodo histórico\, con especial mención a los casos de Xixona. Esta obra llena un vacío historiográfico y al mismo tiempo abre nuevas perspectivas para explicar el lugar de las mujeres en la organización eclesiástica española en la época de la revolución liberal.
URL:https://www.xixona.es/event/presentacion-de-libro-3/
LOCATION:Casa de Cultura
CATEGORIES:Actividad
ATTACH;FMTTYPE=image/jpeg:https://www.xixona.es/wp-content/uploads/2026/02/Llibre-monges.jpg
END:VEVENT
BEGIN:VEVENT
DTSTART;TZID=Europe/Madrid:20260420T160000
DTEND;TZID=Europe/Madrid:20260420T210000
DTSTAMP:20260423T232924
CREATED:20260402T115545Z
LAST-MODIFIED:20260402T115923Z
UID:10000934-1776700800-1776718800@www.xixona.es
SUMMARY:Curso básico manipulador de fitosanitarios.
DESCRIPTION:Es necesario realizar inscripción previa en la Agencia de Desarrollo Local del Ayuntamiento de Xixona (C/Alcoy 12) antes del 15 de abril\, aportando fotocopia del DNI.
URL:https://www.xixona.es/event/curso-basico-manipulador-de-fitosanitarios/2026-04-20/
LOCATION:03-Alicante/Alacant
CATEGORIES:Curso
END:VEVENT
BEGIN:VEVENT
DTSTART;TZID=Europe/Madrid:20260426T110000
DTEND;TZID=Europe/Madrid:20260426T130000
DTSTAMP:20260423T232924
CREATED:20260421T124931Z
LAST-MODIFIED:20260421T125252Z
UID:10000939-1777201200-1777208400@www.xixona.es
SUMMARY:Festival familiar "Feretes i cançonetes"
DESCRIPTION:Llega a Xixona… «Feretes i Cançonetes» el festival familiar más esperado por todos. Este domingo 26 de abril\, a partir de las 11.00 h\, en el Barranc de la Font\, os hemos preparado una gran fiesta: música\, talleres\, juegos y mucha diversión para toda la familia. Con DJ Butoni\, Marcel el Marcià y el universo mágico del «Feretes i Cançonetes».\n\n\nUna mañana llena de música y sonrisas a Xixona para comemorar el 25 de abril. Os esperamos a todos y todas.
URL:https://www.xixona.es/event/festival-familiar-feretes-i-canconetes/
LOCATION:Parc Barranc de la Font\, Francesc Nicolau Mira Miralles 1\, Xixona\, 03-Alicante/Alacant\, 03100\, Spain
CATEGORIES:Actividad,Concierto
END:VEVENT
END:VCALENDAR