BEGIN:VCALENDAR
VERSION:2.0
PRODID:-//Ajuntament de Xixona - ECPv6.15.15//NONSGML v1.0//EN
CALSCALE:GREGORIAN
METHOD:PUBLISH
X-ORIGINAL-URL:https://www.xixona.es
X-WR-CALDESC:Eventos para Ajuntament de Xixona
REFRESH-INTERVAL;VALUE=DURATION:PT1H
X-Robots-Tag:noindex
X-PUBLISHED-TTL:PT1H
BEGIN:VTIMEZONE
TZID:Europe/Madrid
BEGIN:DAYLIGHT
TZOFFSETFROM:+0100
TZOFFSETTO:+0200
TZNAME:CEST
DTSTART:20220327T010000
END:DAYLIGHT
BEGIN:STANDARD
TZOFFSETFROM:+0200
TZOFFSETTO:+0100
TZNAME:CET
DTSTART:20221030T010000
END:STANDARD
BEGIN:DAYLIGHT
TZOFFSETFROM:+0100
TZOFFSETTO:+0200
TZNAME:CEST
DTSTART:20230326T010000
END:DAYLIGHT
BEGIN:STANDARD
TZOFFSETFROM:+0200
TZOFFSETTO:+0100
TZNAME:CET
DTSTART:20231029T010000
END:STANDARD
BEGIN:DAYLIGHT
TZOFFSETFROM:+0100
TZOFFSETTO:+0200
TZNAME:CEST
DTSTART:20240331T010000
END:DAYLIGHT
BEGIN:STANDARD
TZOFFSETFROM:+0200
TZOFFSETTO:+0100
TZNAME:CET
DTSTART:20241027T010000
END:STANDARD
END:VTIMEZONE
BEGIN:VEVENT
DTSTART;TZID=Europe/Madrid:20230904T180000
DTEND;TZID=Europe/Madrid:20230914T210000
DTSTAMP:20260424T134635
CREATED:20230816T092622Z
LAST-MODIFIED:20230816T092622Z
UID:10000620-1693850400-1694725200@www.xixona.es
SUMMARY:Exposición fotográfica "Me llamo. Me llaman"
DESCRIPTION:Del 4 al 14 de septiembre\, El Teatret acogerá la exposición fotográfica «Me llamo. Me llaman» de Benjamín y Cristian Serrano\, dentro de los actos de la XII Semana del Alzheimer. Estará abierta de lunes a sábado de 18.00 h a 21.00 h y los domingos de 10.00 h a 13.00 h. La inauguración será el día 4 de septiembre\, a les 18.00 h.
URL:https://www.xixona.es/event/exposicion-fotografica-me-llamo-me-llaman/
LOCATION:03-Alicante/Alacant
CATEGORIES:Exposición
END:VEVENT
BEGIN:VEVENT
DTSTART;TZID=Europe/Madrid:20230908T220000
DTEND;TZID=Europe/Madrid:20230908T233000
DTSTAMP:20260424T134635
CREATED:20230724T074935Z
LAST-MODIFIED:20230724T074935Z
UID:10000589-1694210400-1694215800@www.xixona.es
SUMMARY:Cine a la fresca
DESCRIPTION:
URL:https://www.xixona.es/event/cine-a-la-fresca/2023-09-08/
LOCATION:03-Alicante/Alacant
CATEGORIES:Actividad
ATTACH;FMTTYPE=image/jpeg:https://www.xixona.es/wp-content/uploads/2025/01/Cartell_cine.jpg
END:VEVENT
BEGIN:VEVENT
DTSTART;TZID=Europe/Madrid:20230921T093000
DTEND;TZID=Europe/Madrid:20230921T120000
DTSTAMP:20260424T134635
CREATED:20230915T100911Z
LAST-MODIFIED:20230915T100911Z
UID:10000625-1695288600-1695297600@www.xixona.es
SUMMARY:Jornada sobre empleabilidad y competencias digitales
DESCRIPTION:¿Quieres conocer los recursos (Punt y App) que te ofrece LABORA? \n¿Quieres aprender a desenvolverte con la firma digital? \n¿Quieres poder manejarte con la sede electrónica de la administración? \n¿Quieres saber cómo sacar el máximo provecho a herramientas que te permitan ahorrar desplazamientos y te faciliten la realización de tramitaciones desde tu móvil u ordenador? \nApúntate a la jornada que impartirán Carmen Tonda del Espai Labora de Xixona y Roberto Devesa\, ADL de la Federación Valenciana de Municipios y Provincias\, el próximo jueves 21 de septiembre en el Espai Labora de Xixona a las 9\,30h. \nInscripciones en la Agencia de Desarrollo Local: adl@xixona.es 965.61.03.00 ext 324 \nCartel_Jornada
URL:https://www.xixona.es/event/jornada-sobre-empleabilidad-y-competencias-digitales/
LOCATION:03-Alicante/Alacant
CATEGORIES:Actividad
ATTACH;FMTTYPE=image/jpeg:https://www.xixona.es/wp-content/uploads/2025/01/cartel.jpg
END:VEVENT
BEGIN:VEVENT
DTSTART;TZID=Europe/Madrid:20230925T080000
DTEND;TZID=Europe/Madrid:20230925T170000
DTSTAMP:20260424T134635
CREATED:20230925T074253Z
LAST-MODIFIED:20230925T074253Z
UID:10000631-1695628800-1695661200@www.xixona.es
SUMMARY:SESSIÓ ORDINÀRIA DEL PLE DE LA CORPORACIÓ: 28 DE SETEMBRE DE 2023 A LES 20.00 HORES.
DESCRIPTION:  \n \nDc pl20230928 \n 
URL:https://www.xixona.es/event/sessio-ordinaria-del-ple-de-la-corporacio-28-de-setembre-de-2023-a-les-20-00-hores/
LOCATION:03-Alicante/Alacant
END:VEVENT
BEGIN:VEVENT
DTSTART;TZID=Europe/Madrid:20230929T180000
DTEND;TZID=Europe/Madrid:20230929T180000
DTSTAMP:20260424T134635
CREATED:20230918T051246Z
LAST-MODIFIED:20230918T051246Z
UID:10000627-1696010400-1696010400@www.xixona.es
SUMMARY:Curso Control biológico de plagas del huerto
DESCRIPTION:Inscripciones por teléfono en el 965.61.03.00 indicando nombre y teléfono de contacto.
URL:https://www.xixona.es/event/curso-control-biologico-de-plagas-del-huerto/2023-09-29/
LOCATION:03-Alicante/Alacant
CATEGORIES:Actividad
ATTACH;FMTTYPE=image/jpeg:https://www.xixona.es/wp-content/uploads/2025/01/curso_huertos.jpg
END:VEVENT
BEGIN:VEVENT
DTSTART;TZID=Europe/Madrid:20230930T093000
DTEND;TZID=Europe/Madrid:20230930T140000
DTSTAMP:20260424T134635
CREATED:20230918T051246Z
LAST-MODIFIED:20230918T051246Z
UID:10000628-1696066200-1696082400@www.xixona.es
SUMMARY:Curso Control biológico de plagas del huerto
DESCRIPTION:Inscripciones por teléfono en el 965.61.03.00 indicando nombre y teléfono de contacto.
URL:https://www.xixona.es/event/curso-control-biologico-de-plagas-del-huerto/2023-09-30/
LOCATION:03-Alicante/Alacant
CATEGORIES:Actividad
ATTACH;FMTTYPE=image/jpeg:https://www.xixona.es/wp-content/uploads/2025/01/curso_huertos.jpg
END:VEVENT
END:VCALENDAR