BEGIN:VCALENDAR
VERSION:2.0
PRODID:-//Ajuntament de Xixona - ECPv6.15.15//NONSGML v1.0//EN
CALSCALE:GREGORIAN
METHOD:PUBLISH
X-WR-CALNAME:Ajuntament de Xixona
X-ORIGINAL-URL:https://www.xixona.es
X-WR-CALDESC:Eventos para Ajuntament de Xixona
REFRESH-INTERVAL;VALUE=DURATION:PT1H
X-Robots-Tag:noindex
X-PUBLISHED-TTL:PT1H
BEGIN:VTIMEZONE
TZID:Europe/Madrid
BEGIN:DAYLIGHT
TZOFFSETFROM:+0100
TZOFFSETTO:+0200
TZNAME:CEST
DTSTART:20230326T010000
END:DAYLIGHT
BEGIN:STANDARD
TZOFFSETFROM:+0200
TZOFFSETTO:+0100
TZNAME:CET
DTSTART:20231029T010000
END:STANDARD
BEGIN:DAYLIGHT
TZOFFSETFROM:+0100
TZOFFSETTO:+0200
TZNAME:CEST
DTSTART:20240331T010000
END:DAYLIGHT
BEGIN:STANDARD
TZOFFSETFROM:+0200
TZOFFSETTO:+0100
TZNAME:CET
DTSTART:20241027T010000
END:STANDARD
BEGIN:DAYLIGHT
TZOFFSETFROM:+0100
TZOFFSETTO:+0200
TZNAME:CEST
DTSTART:20250330T010000
END:DAYLIGHT
BEGIN:STANDARD
TZOFFSETFROM:+0200
TZOFFSETTO:+0100
TZNAME:CET
DTSTART:20251026T010000
END:STANDARD
END:VTIMEZONE
BEGIN:VEVENT
DTSTART;TZID=Europe/Madrid:20241003T080000
DTEND;TZID=Europe/Madrid:20241004T170000
DTSTAMP:20260423T204234
CREATED:20240926T080408Z
LAST-MODIFIED:20240926T080408Z
UID:10000821-1727942400-1728061200@www.xixona.es
SUMMARY:Curso "Eficiencia de riego en el huerto"
DESCRIPTION:
URL:https://www.xixona.es/event/77935/
LOCATION:03-Alicante/Alacant
CATEGORIES:Curso
ATTACH;FMTTYPE=image/jpeg:https://www.xixona.es/wp-content/uploads/2025/01/Cartell-cursos_horts_2024-val.jpg
END:VEVENT
BEGIN:VEVENT
DTSTART;TZID=Europe/Madrid:20241005T190000
DTEND;TZID=Europe/Madrid:20241005T210000
DTSTAMP:20260423T204234
CREATED:20240926T095427Z
LAST-MODIFIED:20240926T095427Z
UID:10000831-1728154800-1728162000@www.xixona.es
SUMMARY:Certamen Nacional UNDEF
DESCRIPTION:La Agrupación Artisticomusical El Trabajo de Xixona se presenta al Certamen Nacional de Interpretación de Música para Moros y Cristianos organizado por la UNDEF y que se celebrará en Altea el sábado 5 de octubre. Si quieres acompañarlos puedes adquirir tu ticket de autobús (5 €) en los comercios indicados por la Agrupación.
URL:https://www.xixona.es/event/certamen-nacional-undef/
LOCATION:03-Alicante/Alacant
CATEGORIES:Concierto
ATTACH;FMTTYPE=image/jpeg:https://www.xixona.es/wp-content/uploads/2025/01/IMG-20240926-WA0000.jpg
END:VEVENT
BEGIN:VEVENT
DTSTART;TZID=Europe/Madrid:20241005T203000
DTEND;TZID=Europe/Madrid:20241005T213000
DTSTAMP:20260423T204234
CREATED:20240926T085423Z
LAST-MODIFIED:20240926T085423Z
UID:10000823-1728160200-1728163800@www.xixona.es
SUMMARY:Concierto homenaje a Fra Melcior Aracil
DESCRIPTION:Un concierto homenaje a la figura del religioso agustino\, musicólogo y autor de tratados de espiritualidad\, nacido en Xixona el 1552\, beatificado y canonizado por el arzobispo de Valencia San Juan de Ribera a cargo del Duo Komorebi y el Dúo Ánfora el sábado 5 de octubre a las 20.30 h en El Teatret.
URL:https://www.xixona.es/event/concierto-homenaje-a-fra-melcior-aracil/
LOCATION:03-Alicante/Alacant
CATEGORIES:Concierto
ATTACH;FMTTYPE=image/jpeg:https://www.xixona.es/wp-content/uploads/2025/01/Fernando-Espi.jpg
END:VEVENT
BEGIN:VEVENT
DTSTART;TZID=Europe/Madrid:20241009T093000
DTEND;TZID=Europe/Madrid:20241009T190000
DTSTAMP:20260423T204234
CREATED:20240926T090112Z
LAST-MODIFIED:20240926T090112Z
UID:10000825-1728466200-1728500400@www.xixona.es
SUMMARY:Nou d'Octubre
DESCRIPTION:Celebra la festividad de la Comunidad Valenciana con los actos programados para ese día: pasacalle\, procesión cívica\, homenajes\, animación y paella para todos.
URL:https://www.xixona.es/event/nou-doctubre/
LOCATION:03-Alicante/Alacant
CATEGORIES:Actividad
ATTACH;FMTTYPE=image/jpeg:https://www.xixona.es/wp-content/uploads/2025/01/NOU-DOCTUBRE-2024.jpg
END:VEVENT
BEGIN:VEVENT
DTSTART;TZID=Europe/Madrid:20241012T210000
DTEND;TZID=Europe/Madrid:20241012T233000
DTSTAMP:20260423T204234
CREATED:20240926T091813Z
LAST-MODIFIED:20240926T091813Z
UID:10000827-1728766800-1728775800@www.xixona.es
SUMMARY:FESTERRÓ
DESCRIPTION:Ven al FESTERRÓ\, un festival de música gratuito\, que tendrá lugar el próximo 12 de octubre\, a partir de las 21.00 h\, en el Barranc de la Font.
URL:https://www.xixona.es/event/festerro/
LOCATION:03-Alicante/Alacant
CATEGORIES:Concierto
ATTACH;FMTTYPE=image/jpeg:https://www.xixona.es/wp-content/uploads/2025/01/IMG-20240925-WA0006.jpg
END:VEVENT
BEGIN:VEVENT
DTSTART;TZID=Europe/Madrid:20241016T163000
DTEND;TZID=Europe/Madrid:20241016T223000
DTSTAMP:20260423T204234
CREATED:20240926T093810Z
LAST-MODIFIED:20240926T093810Z
UID:10000829-1729096200-1729117800@www.xixona.es
SUMMARY:III Jornada de Formación de XICS TORRONERS
DESCRIPTION:La asociación XICS TORRONERS ha organizado la tercera jornada de formación técnica gratuita dedicada al «Futuro del retail turronero» con ponencias muy interesantes. Esta jornada se realizará en la sociedad cultural El Casino de Xixona y estará abierta a toda persona interesada\, previa inscripción en info@xicstorroners.cat.
URL:https://www.xixona.es/event/iii-jornada-de-formacion-de-xics-torroners/
LOCATION:03-Alicante/Alacant
CATEGORIES:Actividad
ATTACH;FMTTYPE=image/jpeg:https://www.xixona.es/wp-content/uploads/2025/01/IMG-20240920-WA0002.jpg
END:VEVENT
BEGIN:VEVENT
DTSTART;TZID=Europe/Madrid:20241018T203000
DTEND;TZID=Europe/Madrid:20241018T220000
DTSTAMP:20260423T204234
CREATED:20241010T110456Z
LAST-MODIFIED:20241010T110456Z
UID:10000833-1729283400-1729288800@www.xixona.es
SUMMARY:Concierto Proclamación de Capitanías Fiestas de Heladeros
DESCRIPTION:
URL:https://www.xixona.es/event/concierto-proclamacion-de-capitanias/
LOCATION:03-Alicante/Alacant
CATEGORIES:Concierto
ATTACH;FMTTYPE=image/jpeg:https://www.xixona.es/wp-content/uploads/2025/01/Cartell-Concert-Gelaors.jpeg
END:VEVENT
BEGIN:VEVENT
DTSTART;TZID=Europe/Madrid:20241019T080000
DTEND;TZID=Europe/Madrid:20241020T220000
DTSTAMP:20260423T204234
CREATED:20241010T111332Z
LAST-MODIFIED:20241010T111332Z
UID:10000835-1729324800-1729461600@www.xixona.es
SUMMARY:Programa de actos de las Fiestas de San Lucas
DESCRIPTION:
URL:https://www.xixona.es/event/programa-de-actos-de-las-fiestas-de-san-lucas/
LOCATION:03-Alicante/Alacant
CATEGORIES:Actividad
ATTACH;FMTTYPE=image/png:https://www.xixona.es/wp-content/uploads/2025/01/san-lucas-2024-actos.png
END:VEVENT
END:VCALENDAR