BEGIN:VCALENDAR
VERSION:2.0
PRODID:-//Ajuntament de Xixona - ECPv6.15.15//NONSGML v1.0//EN
CALSCALE:GREGORIAN
METHOD:PUBLISH
X-ORIGINAL-URL:https://www.xixona.es
X-WR-CALDESC:Eventos para Ajuntament de Xixona
REFRESH-INTERVAL;VALUE=DURATION:PT1H
X-Robots-Tag:noindex
X-PUBLISHED-TTL:PT1H
BEGIN:VTIMEZONE
TZID:Europe/Madrid
BEGIN:DAYLIGHT
TZOFFSETFROM:+0100
TZOFFSETTO:+0200
TZNAME:CEST
DTSTART:20230326T010000
END:DAYLIGHT
BEGIN:STANDARD
TZOFFSETFROM:+0200
TZOFFSETTO:+0100
TZNAME:CET
DTSTART:20231029T010000
END:STANDARD
BEGIN:DAYLIGHT
TZOFFSETFROM:+0100
TZOFFSETTO:+0200
TZNAME:CEST
DTSTART:20240331T010000
END:DAYLIGHT
BEGIN:STANDARD
TZOFFSETFROM:+0200
TZOFFSETTO:+0100
TZNAME:CET
DTSTART:20241027T010000
END:STANDARD
BEGIN:DAYLIGHT
TZOFFSETFROM:+0100
TZOFFSETTO:+0200
TZNAME:CEST
DTSTART:20250330T010000
END:DAYLIGHT
BEGIN:STANDARD
TZOFFSETFROM:+0200
TZOFFSETTO:+0100
TZNAME:CET
DTSTART:20251026T010000
END:STANDARD
END:VTIMEZONE
BEGIN:VEVENT
DTSTART;TZID=Europe/Madrid:20241101T193000
DTEND;TZID=Europe/Madrid:20241101T203000
DTSTAMP:20260423T192850
CREATED:20241025T080338Z
LAST-MODIFIED:20241025T080338Z
UID:10000837-1730489400-1730493000@www.xixona.es
SUMMARY:La sonata: de la tradició a la modernitat
DESCRIPTION:El 1 de noviembre\, Día de Todos los Santos\, celebraremos un recital de piano y clarinete a cargo de Carmen Santamaría y Toni Pineño\, a las 19.30 h\, en el Cine de Dalt. \n 
URL:https://www.xixona.es/event/la-sonata-de-la-tradicio-a-la-modernitat/
LOCATION:03-Alicante/Alacant
CATEGORIES:Concierto
ATTACH;FMTTYPE=image/jpeg:https://www.xixona.es/wp-content/uploads/2025/01/Concert-Toni.jpg
END:VEVENT
BEGIN:VEVENT
DTSTART;TZID=Europe/Madrid:20241109T193000
DTEND;TZID=Europe/Madrid:20241109T210000
DTSTAMP:20260423T192850
CREATED:20241025T095630Z
LAST-MODIFIED:20241025T095630Z
UID:10000839-1731180600-1731186000@www.xixona.es
SUMMARY:Concierto música antigua
DESCRIPTION:Al entorno del Dia Mundial del Turrón\, Nuno Kawaguchi nos ofrece un concierto con órgano positivo\, el sábado 9 de noviembre en El Teatret\, a las 19.30 h.
URL:https://www.xixona.es/event/concierto-musica-antigua/
LOCATION:03-Alicante/Alacant
CATEGORIES:Concierto
ATTACH;FMTTYPE=image/jpeg:https://www.xixona.es/wp-content/uploads/2025/01/CONCERT-MUSICA-ANTIGA.jpg
END:VEVENT
BEGIN:VEVENT
DTSTART;TZID=Europe/Madrid:20241116T170000
DTEND;TZID=Europe/Madrid:20241116T200000
DTSTAMP:20260423T192850
CREATED:20241112T111939Z
LAST-MODIFIED:20241112T111939Z
UID:10000843-1731776400-1731787200@www.xixona.es
SUMMARY:Concurso de pintura Amics dels Reis Mags
DESCRIPTION:El sábado 16 de noviembre\, de 17.00 h a 20.00 h\, en la Casa de Cultura\, la Associació Amics del Reis Mags organiza el concurso de dibujo anual con premios según categorías. ¡Venid y participad (podéis traeros vuestros colores)!
URL:https://www.xixona.es/event/concurso-de-pintura-amics-dels-reis-mags/
LOCATION:03-Alicante/Alacant
CATEGORIES:Actividad
ATTACH;FMTTYPE=image/jpeg:https://www.xixona.es/wp-content/uploads/2025/01/Cartell-2-bases.jpg
END:VEVENT
BEGIN:VEVENT
DTSTART;TZID=Europe/Madrid:20241116T193000
DTEND;TZID=Europe/Madrid:20241116T220000
DTSTAMP:20260423T192850
CREATED:20241025T100619Z
LAST-MODIFIED:20241025T100619Z
UID:10000841-1731785400-1731794400@www.xixona.es
SUMMARY:XII Concierto de Navidad. Santa Cecilia 2024
DESCRIPTION:Como todos los años celebramos el XII Concierto de Navidad en el ADDA con la Agrupación Artístico-musical El Trabajo de Xixona el sábado 16 de noviembre a las 19.30 h. Las entradas estarán disponibles en la web https://www.giglon.com/evento/xii-concert-de-nadal-santa-cecilia-2024 a partir de hoy a las 18.00 h y los billetes del autobús podrán adquirirse en Viajes Jijona de lunes a viernes de 10.00 h a 13.00 h y de 16.00 h a 19.00 h hasta el 8 de noviembre.
URL:https://www.xixona.es/event/xii-concierto-de-navidad-santa-cecilia-2024/
LOCATION:03-Alicante/Alacant
CATEGORIES:Concierto
END:VEVENT
BEGIN:VEVENT
DTSTART;TZID=Europe/Madrid:20241121T173000
DTEND;TZID=Europe/Madrid:20241127T203000
DTSTAMP:20260423T192850
CREATED:20241112T123042Z
LAST-MODIFIED:20241112T123042Z
UID:10000845-1732210200-1732739400@www.xixona.es
SUMMARY:Exposición de la AVL sobre la escritora Maria Ibars
DESCRIPTION:En conmemoración del Dia de les Lletres Valencianes\, Xixona acogerá del 21 al 27 de noviembre\, en El Teatret\, la exposición de la Acadèmia Valenciana de la Llengua Maria Ibars\, un paisatge de paraules. Escriure i viure a l’ombra del Montgó. Esta exposición quiere rendir un homenaje a la nombrada por la AVL Escriptora de l’Any 2024 por una obra que tuvo que afrontar importantes dificultades de divulgación y de valoración crítica\, pero que por su valía inmanente y por la contribución al cultivo literario en valenciano durante el franquismo\, resulta bien extraordinaria.
URL:https://www.xixona.es/event/exposicio-de-maria-ibars/
LOCATION:03-Alicante/Alacant
CATEGORIES:Exposición
ATTACH;FMTTYPE=image/jpeg:https://www.xixona.es/wp-content/uploads/2025/01/exposicio-2-1.jpg
END:VEVENT
BEGIN:VEVENT
DTSTART;TZID=Europe/Madrid:20241124T190000
DTEND;TZID=Europe/Madrid:20241124T200000
DTSTAMP:20260423T192850
CREATED:20241112T130106Z
LAST-MODIFIED:20241112T130106Z
UID:10000847-1732474800-1732478400@www.xixona.es
SUMMARY:Teatro "L'increïble assassinat d'Ausiàs March"
DESCRIPTION:Para homenajear el Dia de les Lletres Valencianes\, contamos con la divertidísima obra L’increïble assassinat d’Ausiàs March un espectáculo en forma de thriller creado por CRIT Companyia de Teatre y producida por Teatre Escalante. A partir de una investigación policial para buscar al culpable\, viajaremos\, a través de canciones y música en directo\, y a través de la memoria que atraviesa el tiempo\, a la Valencia del siglo XV y a la Valencia de hoy. Conoceremos al Ausiàs March del siglo XV y al que hoy perdura. Nos emocionaremos con un espectáculo de hoy para celebrar la obra de uno de los mejores poetas de la historia. \nA causa de la passada DANA l’espectacle es realitzarà el diumenge 24 de novembre a les 19.00 h al Cine de Dalt.
URL:https://www.xixona.es/event/teatro-2/
LOCATION:03-Alicante/Alacant
CATEGORIES:Teatro
ATTACH;FMTTYPE=image/jpeg:https://www.xixona.es/wp-content/uploads/2025/01/Increible-assassinat-1.jpg
END:VEVENT
END:VCALENDAR