BEGIN:VCALENDAR
VERSION:2.0
PRODID:-//Ajuntament de Xixona - ECPv6.15.15//NONSGML v1.0//EN
CALSCALE:GREGORIAN
METHOD:PUBLISH
X-ORIGINAL-URL:https://www.xixona.es
X-WR-CALDESC:Eventos para Ajuntament de Xixona
REFRESH-INTERVAL;VALUE=DURATION:PT1H
X-Robots-Tag:noindex
X-PUBLISHED-TTL:PT1H
BEGIN:VTIMEZONE
TZID:Europe/Madrid
BEGIN:DAYLIGHT
TZOFFSETFROM:+0100
TZOFFSETTO:+0200
TZNAME:CEST
DTSTART:20230326T010000
END:DAYLIGHT
BEGIN:STANDARD
TZOFFSETFROM:+0200
TZOFFSETTO:+0100
TZNAME:CET
DTSTART:20231029T010000
END:STANDARD
BEGIN:DAYLIGHT
TZOFFSETFROM:+0100
TZOFFSETTO:+0200
TZNAME:CEST
DTSTART:20240331T010000
END:DAYLIGHT
BEGIN:STANDARD
TZOFFSETFROM:+0200
TZOFFSETTO:+0100
TZNAME:CET
DTSTART:20241027T010000
END:STANDARD
BEGIN:DAYLIGHT
TZOFFSETFROM:+0100
TZOFFSETTO:+0200
TZNAME:CEST
DTSTART:20250330T010000
END:DAYLIGHT
BEGIN:STANDARD
TZOFFSETFROM:+0200
TZOFFSETTO:+0100
TZNAME:CET
DTSTART:20251026T010000
END:STANDARD
END:VTIMEZONE
BEGIN:VEVENT
DTSTART;TZID=Europe/Madrid:20241205T100000
DTEND;TZID=Europe/Madrid:20241208T210000
DTSTAMP:20260423T181219
CREATED:20241126T080657Z
LAST-MODIFIED:20241126T080657Z
UID:10000849-1733392800-1733691600@www.xixona.es
SUMMARY:XVI Feria de Navidad de Jijona
DESCRIPTION:Programa de actividades \nExpositores \nWeb Feria de navidad
URL:https://www.xixona.es/event/xvi-feria-de-navidad-de-jijona/
LOCATION:03-Alicante/Alacant
CATEGORIES:Actividad
END:VEVENT
BEGIN:VEVENT
DTSTART;TZID=Europe/Madrid:20241205T173000
DTEND;TZID=Europe/Madrid:20241205T190000
DTSTAMP:20260423T181219
CREATED:20241205T080555Z
LAST-MODIFIED:20241205T080555Z
UID:10000851-1733419800-1733425200@www.xixona.es
SUMMARY:Cantem nadales
DESCRIPTION:Alumnado de los tres colegios de primaria de Xixona dan la bienvenida a la XVI Feria de Navidad cantando villancicos y acto seguido se ofrecerá un chocolate y una pasta para los asistentes.
URL:https://www.xixona.es/event/cantem-nadales-3/
LOCATION:03-Alicante/Alacant
CATEGORIES:Concierto
ATTACH;FMTTYPE=image/jpeg:https://www.xixona.es/wp-content/uploads/2025/01/Cantem-nadales.jpg
END:VEVENT
BEGIN:VEVENT
DTSTART;TZID=Europe/Madrid:20241212T193000
DTEND;TZID=Europe/Madrid:20241212T203000
DTSTAMP:20260423T181219
CREATED:20241205T081743Z
LAST-MODIFIED:20241205T081743Z
UID:10000853-1734031800-1734035400@www.xixona.es
SUMMARY:La Banda Jove en concierto
DESCRIPTION:Venid a escuchar a nuestros músicos noveles de la Banda Jove de la Agrupación Artístico-musical El Trabajo de Xixona en su recital navideño.
URL:https://www.xixona.es/event/la-banda-jove-en-concierto/
LOCATION:03-Alicante/Alacant
CATEGORIES:Concierto
ATTACH;FMTTYPE=image/png:https://www.xixona.es/wp-content/uploads/2025/01/A4_Audicio-Banda-Jove.pdf.png
END:VEVENT
BEGIN:VEVENT
DTSTART;TZID=Europe/Madrid:20241213T170000
DTEND;TZID=Europe/Madrid:20241213T200000
DTSTAMP:20260423T181219
CREATED:20241205T084449Z
LAST-MODIFIED:20241205T084449Z
UID:10000859-1734109200-1734120000@www.xixona.es
SUMMARY:Taller de drones
DESCRIPTION:Actividad dirigida a jóvenes de 12 a 30 años con el fin de conocer la configuración y los componentes de un dron y aprender a volarlo. Las plazas son limitadas y la inscripción es por formulario en https://bit.ly/TallerDrons. 
URL:https://www.xixona.es/event/taller-de-drons/
LOCATION:03-Alicante/Alacant
CATEGORIES:Taller
ATTACH;FMTTYPE=image/png:https://www.xixona.es/wp-content/uploads/2025/01/Taller-Drons.png
END:VEVENT
BEGIN:VEVENT
DTSTART;TZID=Europe/Madrid:20241213T170000
DTEND;TZID=Europe/Madrid:20241213T200000
DTSTAMP:20260423T181219
CREATED:20241205T084449Z
LAST-MODIFIED:20241205T084449Z
UID:10000860-1734109200-1734120000@www.xixona.es
SUMMARY:Taller de drons
DESCRIPTION:Activitat dirigida a joves de 12 a 30 anys amb la finalitat de conèixer la configuració i els components d’un dron i aprendre a volar-lo. Les places són limitades i la inscripció és per formulari en https://bit.ly/TallerDrons. 
URL:https://www.xixona.es/event/taller-de-drons-2/
LOCATION:03-Alicante/Alacant
CATEGORIES:Taller
ATTACH;FMTTYPE=image/png:https://www.xixona.es/wp-content/uploads/2025/01/Taller-Drons.png
END:VEVENT
BEGIN:VEVENT
DTSTART;TZID=Europe/Madrid:20241214T190000
DTEND;TZID=Europe/Madrid:20241214T200000
DTSTAMP:20260423T181219
CREATED:20241205T082515Z
LAST-MODIFIED:20241205T082515Z
UID:10000854-1734202800-1734206400@www.xixona.es
SUMMARY:Casa Mediterráneo en concierto
DESCRIPTION:Concierto de Navidad a cargo de la Ensemble Casa Mediterráneo\, la orquesta residente de Casa Mediterráneo\, formada por una plantilla heterogénea de músicos profesionales que ponen en valor la música como herramienta de comunicación intercultural fomentando el conocimiento de la diversidad mediterránea a través del arte.
URL:https://www.xixona.es/event/casa-mediterraneo-en-concierto/
LOCATION:03-Alicante/Alacant
CATEGORIES:Concierto
ATTACH;FMTTYPE=image/png:https://www.xixona.es/wp-content/uploads/2025/01/Cartell-A4_Concert-Nadal_-Casa-Mediterraneo.png
END:VEVENT
BEGIN:VEVENT
DTSTART;TZID=Europe/Madrid:20241215T090000
DTEND;TZID=Europe/Madrid:20241215T140000
DTSTAMP:20260423T181219
CREATED:20241205T083147Z
LAST-MODIFIED:20241205T083147Z
UID:10000856-1734253200-1734271200@www.xixona.es
SUMMARY:I Trial Ciutat de Xixona
DESCRIPTION:La Concejalía de Deportes junto con la asociación Moto Club Xixona organizan el I Trial Ciutat de Xixona\, última prueba del año para cerrar el Campeonato de Trial de la Comunidad Valenciana.
URL:https://www.xixona.es/event/78531/
LOCATION:03-Alicante/Alacant
CATEGORIES:Actividad
ATTACH;FMTTYPE=image/jpeg:https://www.xixona.es/wp-content/uploads/2025/01/CAMPEONATO-DE-TRIAL-DE-LA-COMUNIDAD-VALENCIANA-001-scaled.jpg
END:VEVENT
BEGIN:VEVENT
DTSTART;TZID=Europe/Madrid:20241216T160000
DTEND;TZID=Europe/Madrid:20241219T210000
DTSTAMP:20260423T181219
CREATED:20241205T093446Z
LAST-MODIFIED:20241205T093446Z
UID:10000861-1734364800-1734642000@www.xixona.es
SUMMARY:Exposición de tarjetas de Navidad
DESCRIPTION:Exposición de los trabajos presendos al concurso de tarjetas de Navidad 2024 en la Casa de Cultura del 16 al 19 de diciembre de 16.00 h a 21.00 h.
URL:https://www.xixona.es/event/exposicion-de-tarjetas-de-navidad/
LOCATION:03-Alicante/Alacant
CATEGORIES:Exposición
ATTACH;FMTTYPE=image/png:https://www.xixona.es/wp-content/uploads/2025/01/ExpoTargetes-nadal_2024.png
END:VEVENT
BEGIN:VEVENT
DTSTART;TZID=Europe/Madrid:20241217T163000
DTEND;TZID=Europe/Madrid:20241217T203000
DTSTAMP:20260423T181219
CREATED:20241205T083921Z
LAST-MODIFIED:20241205T083921Z
UID:10000858-1734453000-1734467400@www.xixona.es
SUMMARY:Campanya de donació de sang
DESCRIPTION:
URL:https://www.xixona.es/event/campanya-de-donacio-de-sang/
LOCATION:03-Alicante/Alacant
CATEGORIES:Actividad
ATTACH;FMTTYPE=image/jpeg:https://www.xixona.es/wp-content/uploads/2025/01/DONANTERS_17122024_V.jpg
END:VEVENT
BEGIN:VEVENT
DTSTART;TZID=Europe/Madrid:20241220T190000
DTEND;TZID=Europe/Madrid:20241220T203000
DTSTAMP:20260423T181219
CREATED:20241205T095151Z
LAST-MODIFIED:20241205T095151Z
UID:10000863-1734721200-1734726600@www.xixona.es
SUMMARY:Dani Miquel y los Ma-me-mi-mo-músics en concierto
DESCRIPTION:La superbanda de Dani Miquel estará con nosotros el 20 de diciembre\, a las 19.00 h\, para llenarnos de música y alegría con su disco más navideño A Nadal\, un pas de pardal en el Cine de Dalt. La entrada es libre. Familias\, ¡os esperamos!
URL:https://www.xixona.es/event/dani-miquel-y-los-ma-me-mi-mo-musics-en-concierto/
LOCATION:03-Alicante/Alacant
CATEGORIES:Concierto
ATTACH;FMTTYPE=image/png:https://www.xixona.es/wp-content/uploads/2025/01/Cartell-Dani-Miquel.png
END:VEVENT
BEGIN:VEVENT
DTSTART;TZID=Europe/Madrid:20241221T190000
DTEND;TZID=Europe/Madrid:20241221T200000
DTSTAMP:20260423T181219
CREATED:20241205T100330Z
LAST-MODIFIED:20241205T100330Z
UID:10000864-1734807600-1734811200@www.xixona.es
SUMMARY:Rudolph\, el musical
DESCRIPTION:Espectáculo para toda la família dedicado a la Navidad donde os invitamos a montar con nosotros al trineo del Padre Noel y descubrir que podemos volar con nuestra imaginación.
URL:https://www.xixona.es/event/rudolph/
LOCATION:03-Alicante/Alacant
CATEGORIES:Teatro
ATTACH;FMTTYPE=image/png:https://www.xixona.es/wp-content/uploads/2025/01/Cartell-musical-Rudolph.png
END:VEVENT
BEGIN:VEVENT
DTSTART;TZID=Europe/Madrid:20241223T110000
DTEND;TZID=Europe/Madrid:20241223T200000
DTSTAMP:20260423T181219
CREATED:20241212T073010Z
LAST-MODIFIED:20241212T073010Z
UID:10000866-1734951600-1734984000@www.xixona.es
SUMMARY:La casita de Papá Noel
DESCRIPTION:Ven a visitarla el 23 de diciembre de 11.00 h a 14.00 h i de 17.00 h a 20.00 h delante del ayuntamiento (av. Constitució\, 6).
URL:https://www.xixona.es/event/la-casita-de-papa-noel/
LOCATION:03-Alicante/Alacant
CATEGORIES:Actividad
ATTACH;FMTTYPE=image/png:https://www.xixona.es/wp-content/uploads/2025/01/Cartell-Caseta-Pare-Noel.png
END:VEVENT
BEGIN:VEVENT
DTSTART;TZID=Europe/Madrid:20241224T190000
DTEND;TZID=Europe/Madrid:20241224T210000
DTSTAMP:20260423T181219
CREATED:20241212T075320Z
LAST-MODIFIED:20241212T075320Z
UID:10000867-1735066800-1735074000@www.xixona.es
SUMMARY:Rodà d'aixames
DESCRIPTION:«Les aixames de maitines\, si no tiren anous que tiren figues…» Entrada la noche de Nochebuena y Nochevieja ven a rodar aixames en la av. Constitució (La Plaça). Sigue nuestra tradición ancestral.
URL:https://www.xixona.es/event/roda-daixames/2024-12-24/
LOCATION:03-Alicante/Alacant
CATEGORIES:Actividad
ATTACH;FMTTYPE=image/jpeg:https://www.xixona.es/wp-content/uploads/2025/01/Aixames.jpg
END:VEVENT
BEGIN:VEVENT
DTSTART;TZID=Europe/Madrid:20241228T110000
DTEND;TZID=Europe/Madrid:20241228T133000
DTSTAMP:20260423T181219
CREATED:20241212T080705Z
LAST-MODIFIED:20241212T080705Z
UID:10000869-1735383600-1735392600@www.xixona.es
SUMMARY:Visita del paje real
DESCRIPTION:El paje de sus majestades los Reyes de Oriente pasará por Xixona el sábado 28 de diciembre para recoger las cartas de los niños y niñas de Xixona. Estará esperándolas en la puerta del ayuntamiento de 11.00 h a 13.30 h.
URL:https://www.xixona.es/event/visita-del-paje-real/
LOCATION:03-Alicante/Alacant
CATEGORIES:Actividad
ATTACH;FMTTYPE=image/jpeg:https://www.xixona.es/wp-content/uploads/2025/01/VISITA-DEL-PATGE-REIAL.jpg
END:VEVENT
BEGIN:VEVENT
DTSTART;TZID=Europe/Madrid:20241229T123000
DTEND;TZID=Europe/Madrid:20241229T133000
DTSTAMP:20260423T181219
CREATED:20241212T082335Z
LAST-MODIFIED:20241212T082335Z
UID:10000871-1735475400-1735479000@www.xixona.es
SUMMARY:Concierto "Música antiga"
DESCRIPTION:Cerramos la programación cultural de 2024 con el concierto de órgano positivo a cargo de Nuno Kawaguchi que se celebrará el próximo domingo 29 de diciembre\, a las 12.30 h\, en El Teatret. La entrada es libre hasta ocupar la capacidad de la sala.
URL:https://www.xixona.es/event/concierto-musica-antiga/
LOCATION:03-Alicante/Alacant
CATEGORIES:Concierto
ATTACH;FMTTYPE=image/png:https://www.xixona.es/wp-content/uploads/2025/01/CARTELL-A4_CONCERT-NUNO.png
END:VEVENT
BEGIN:VEVENT
DTSTART;TZID=Europe/Madrid:20241231T190000
DTEND;TZID=Europe/Madrid:20241231T210000
DTSTAMP:20260423T181219
CREATED:20241212T075320Z
LAST-MODIFIED:20241212T075320Z
UID:10000868-1735671600-1735678800@www.xixona.es
SUMMARY:Rodà d'aixames
DESCRIPTION:«Les aixames de maitines\, si no tiren anous que tiren figues…» Entrada la noche de Nochebuena y Nochevieja ven a rodar aixames en la av. Constitució (La Plaça). Sigue nuestra tradición ancestral.
URL:https://www.xixona.es/event/roda-daixames/2024-12-31/
LOCATION:03-Alicante/Alacant
CATEGORIES:Actividad
ATTACH;FMTTYPE=image/jpeg:https://www.xixona.es/wp-content/uploads/2025/01/Aixames.jpg
END:VEVENT
END:VCALENDAR