BEGIN:VCALENDAR
VERSION:2.0
PRODID:-//Ajuntament de Xixona - ECPv6.15.15//NONSGML v1.0//EN
CALSCALE:GREGORIAN
METHOD:PUBLISH
X-ORIGINAL-URL:https://www.xixona.es
X-WR-CALDESC:Eventos para Ajuntament de Xixona
REFRESH-INTERVAL;VALUE=DURATION:PT1H
X-Robots-Tag:noindex
X-PUBLISHED-TTL:PT1H
BEGIN:VTIMEZONE
TZID:Europe/Madrid
BEGIN:DAYLIGHT
TZOFFSETFROM:+0100
TZOFFSETTO:+0200
TZNAME:CEST
DTSTART:20240331T010000
END:DAYLIGHT
BEGIN:STANDARD
TZOFFSETFROM:+0200
TZOFFSETTO:+0100
TZNAME:CET
DTSTART:20241027T010000
END:STANDARD
BEGIN:DAYLIGHT
TZOFFSETFROM:+0100
TZOFFSETTO:+0200
TZNAME:CEST
DTSTART:20250330T010000
END:DAYLIGHT
BEGIN:STANDARD
TZOFFSETFROM:+0200
TZOFFSETTO:+0100
TZNAME:CET
DTSTART:20251026T010000
END:STANDARD
BEGIN:DAYLIGHT
TZOFFSETFROM:+0100
TZOFFSETTO:+0200
TZNAME:CEST
DTSTART:20260329T010000
END:DAYLIGHT
BEGIN:STANDARD
TZOFFSETFROM:+0200
TZOFFSETTO:+0100
TZNAME:CET
DTSTART:20261025T010000
END:STANDARD
END:VTIMEZONE
BEGIN:VEVENT
DTSTART;VALUE=DATE:20250405
DTEND;VALUE=DATE:20250406
DTSTAMP:20260423T130628
CREATED:20250403T052916Z
LAST-MODIFIED:20250626T113756Z
UID:10000911-1743811200-1743897599@www.xixona.es
SUMMARY:Concierto orquesta JMX
DESCRIPTION:Este sábado\, a las 19.30 h\, en el Cine de Dalt\, la orquesta de pulso y púa se despide de su público en un último concierto después de más de diez años. Una ocasión única para disfrutar de esta música. La entrada es libre hasta completar aforo.
URL:https://www.xixona.es/event/concierto-orquesta-jmx/
LOCATION:03-Alicante/Alacant
CATEGORIES:Concierto
ATTACH;FMTTYPE=image/jpeg:https://www.xixona.es/wp-content/uploads/2025/04/ULTIM-CONCERT-Documento-A4.jpg
END:VEVENT
BEGIN:VEVENT
DTSTART;VALUE=DATE:20250406
DTEND;VALUE=DATE:20250407
DTSTAMP:20260423T130628
CREATED:20250403T073446Z
LAST-MODIFIED:20250626T113540Z
UID:10000905-1743897600-1743983999@www.xixona.es
SUMMARY:Marcha senderista familiar
DESCRIPTION:La Concejalía de Deportes a través del Centro Excursionista de Xixona convoca la marcha senderista familiar este domingo 6 de abril a la Font de Nutxes. El punto de encuentro será a las 9.00 h en la puerta del Ayuntamiento.
URL:https://www.xixona.es/event/marxa-senderista-familiar/
LOCATION:03-Alicante/Alacant
CATEGORIES:Actividad
ATTACH;FMTTYPE=image/jpeg:https://www.xixona.es/wp-content/uploads/2025/04/descargar.jpg
END:VEVENT
BEGIN:VEVENT
DTSTART;VALUE=DATE:20250409
DTEND;VALUE=DATE:20250410
DTSTAMP:20260423T130628
CREATED:20250403T062425Z
LAST-MODIFIED:20250626T113627Z
UID:10000909-1744156800-1744243199@www.xixona.es
SUMMARY:Presentación de libro y coloquio
DESCRIPTION:El próximo 9 de abril\, a las 10.30 h\, en la biblioteca municipal tendrá lugar la presentación del libro La maternidad que me contaron\, el postparto que descubrí de Vanessa Fontanilla.
URL:https://www.xixona.es/event/presentacio-de-llibre-i-col%c2%b7loqui/
LOCATION:03-Alicante/Alacant
CATEGORIES:Actividad
ATTACH;FMTTYPE=image/jpeg:https://www.xixona.es/wp-content/uploads/2025/04/De-mare-a-mare-redes-1080-x-1350-px-1.jpg
END:VEVENT
BEGIN:VEVENT
DTSTART;VALUE=DATE:20250410
DTEND;VALUE=DATE:20250411
DTSTAMP:20260423T130628
CREATED:20250403T064854Z
LAST-MODIFIED:20250626T113614Z
UID:10000908-1744243200-1744329599@www.xixona.es
SUMMARY:Conferencia de la Sede Universitaria de Xixona
DESCRIPTION:El jueves 10 de abril\, en la Casa de Cultura\, a las 19.00 h\, podremos asistir a la conferencia de la Sede Universitaria de Xixona  «Crisis de la democracia y crecimiento de las extremas derechas en el mundo» a cargo del doctor Alejandro Osorio Rauld\, profesor de sociología de la Universidad de Alicante.
URL:https://www.xixona.es/event/conferencia-de-la-sede-universitaria-de-xixona/
LOCATION:03-Alicante/Alacant
CATEGORIES:Actividad
ATTACH;FMTTYPE=image/jpeg:https://www.xixona.es/wp-content/uploads/2025/04/Conferencia-UA.jpg
END:VEVENT
BEGIN:VEVENT
DTSTART;VALUE=DATE:20250412
DTEND;VALUE=DATE:20250413
DTSTAMP:20260423T130628
CREATED:20250403T070948Z
LAST-MODIFIED:20250626T113604Z
UID:10000907-1744416000-1744502399@www.xixona.es
SUMMARY:I Festival Infantil y Juvenil del Grup de Danses de Xixona
DESCRIPTION:El Grup de Danses de Xixona organiza el I Festival Infantil y Juvenil con la participación de sus educandos y con la Escuela Infantil y Juvenil del Grup de Danses d’Ibi\, en el Cine de Dalt\, el próximo sábado 12 de abril en horario de mañana\, a las 12.30 h. La entrada será libre.
URL:https://www.xixona.es/event/i-festival-infantil-i-juvenil-del-grup-de-danses-de-xixona/
LOCATION:03-Alicante/Alacant
CATEGORIES:Danza
ATTACH;FMTTYPE=image/jpeg:https://www.xixona.es/wp-content/uploads/2025/04/CARTELL-A4-FESTIVAL-INFANTIL.jpg
END:VEVENT
BEGIN:VEVENT
DTSTART;VALUE=DATE:20250412
DTEND;VALUE=DATE:20250413
DTSTAMP:20260423T130628
CREATED:20250403T072042Z
LAST-MODIFIED:20250626T113552Z
UID:10000906-1744416000-1744502399@www.xixona.es
SUMMARY:Concierto sacro
DESCRIPTION:Cantos y poemas de la pasión es el título del concierto sacro que nos ofrece\, un año más\, la Coral de Voces Blancas Ciudad de Xixona\, el próximo 12 de abril\, a las 19.30 h\, en El Teatret. La música y la dirección irán a cargo de Vicente Pla.
URL:https://www.xixona.es/event/concierto-sacro-2/
LOCATION:03-Alicante/Alacant
CATEGORIES:Concierto
ATTACH;FMTTYPE=image/jpeg:https://www.xixona.es/wp-content/uploads/2025/04/Concert-sacre-3.jpg
END:VEVENT
BEGIN:VEVENT
DTSTART;VALUE=DATE:20250414
DTEND;VALUE=DATE:20250415
DTSTAMP:20260423T130628
CREATED:20250403T074622Z
LAST-MODIFIED:20250626T113529Z
UID:10000904-1744588800-1744675199@www.xixona.es
SUMMARY:Charla dirigida a familias
DESCRIPTION:Vanesa García Navarro\, psicóloga y sexóloga juvenil\, nos hablará sobre estrés y ansiedad en adolescentes en una charla-coloquio\, dirigida a las familias\, organizada por la Concejalía de Educación\, el lunes 14 de abril\, a las 18.30 h\, en la Casa de Cultura.
URL:https://www.xixona.es/event/charla-dirigida-a-familias/
LOCATION:03-Alicante/Alacant
CATEGORIES:Actividad
END:VEVENT
BEGIN:VEVENT
DTSTART;VALUE=DATE:20250415
DTEND;VALUE=DATE:20250416
DTSTAMP:20260423T130628
CREATED:20250403T075832Z
LAST-MODIFIED:20250626T113519Z
UID:10000903-1744675200-1744761599@www.xixona.es
SUMMARY:Colecta de sangre en abril
DESCRIPTION:La campaña de donación de sangre para el mes de abril será el próximo martes 15\, de 16.30 h a 20.30 h\, en la Sociedad Cultural El Trabajo de Xixona.
URL:https://www.xixona.es/event/colecta-de-sangre-en-abril/
LOCATION:03-Alicante/Alacant
CATEGORIES:Actividad
ATTACH;FMTTYPE=image/jpeg:https://www.xixona.es/wp-content/uploads/2025/04/15.04-Donanters.jpg
END:VEVENT
BEGIN:VEVENT
DTSTART;VALUE=DATE:20250423
DTEND;VALUE=DATE:20250424
DTSTAMP:20260423T130628
CREATED:20250403T094323Z
LAST-MODIFIED:20250626T113506Z
UID:10000902-1745366400-1745452799@www.xixona.es
SUMMARY:Enséñate a tramitar tu beca MEC
DESCRIPTION:Si quieres solicitar la beca del Ministerio de Educación para el curso 2025/2026 y necesitas ayuda\, ven el día 23 de abril\, a las 11.00 h\, en la Casa de Cultura y te enseñaremos. Tienes que inscribirte previamente en el formulario https://bit.ly/solicitudBecaMEC
URL:https://www.xixona.es/event/ensenate-a-tramitar-tu-beca-mec/
LOCATION:03-Alicante/Alacant
CATEGORIES:Actividad
ATTACH;FMTTYPE=image/png:https://www.xixona.es/wp-content/uploads/2025/04/Beca-MEC-1.png
END:VEVENT
BEGIN:VEVENT
DTSTART;VALUE=DATE:20250423
DTEND;VALUE=DATE:20250425
DTSTAMP:20260423T130628
CREATED:20250403T095306Z
LAST-MODIFIED:20250626T113452Z
UID:10000901-1745366400-1745539199@www.xixona.es
SUMMARY:Celebramos el Día del Libro
DESCRIPTION:Cuentacuentos y taller con Vanessa Fontanilla y Modesta Sánchez para celebrar el Día del Libro el 23 y 24 de abril\, a las 11.00 h\, en la biblioteca Fernando Galiana de la Casa Rovira.
URL:https://www.xixona.es/event/celebramos-el-dia-del-libro/
LOCATION:03-Alicante/Alacant
CATEGORIES:Actividad
ATTACH;FMTTYPE=image/jpeg:https://www.xixona.es/wp-content/uploads/2025/04/Sant-Jordi-redes-1080-x-1350-px.jpg
END:VEVENT
BEGIN:VEVENT
DTSTART;VALUE=DATE:20250426
DTEND;VALUE=DATE:20250427
DTSTAMP:20260423T130628
CREATED:20250424T095133Z
LAST-MODIFIED:20250626T113931Z
UID:10000910-1745625600-1745711999@www.xixona.es
SUMMARY:Dinar de Cabasset
DESCRIPTION:Lamentamos comunicar que el evento organizado para este sábado 26 de abril queda suspendido a causa de la previsión meteorológica de lluvias y tormentas. Disculpen las molestias.
URL:https://www.xixona.es/event/dinar-de-cabasset/
LOCATION:03-Alicante/Alacant
CATEGORIES:Actividad
ATTACH;FMTTYPE=image/png:https://www.xixona.es/wp-content/uploads/2025/04/ACTE-SUSPES.png
END:VEVENT
END:VCALENDAR