BEGIN:VCALENDAR
VERSION:2.0
PRODID:-//Ajuntament de Xixona - ECPv6.15.15//NONSGML v1.0//EN
CALSCALE:GREGORIAN
METHOD:PUBLISH
X-WR-CALNAME:Ajuntament de Xixona
X-ORIGINAL-URL:https://www.xixona.es
X-WR-CALDESC:Eventos para Ajuntament de Xixona
REFRESH-INTERVAL;VALUE=DURATION:PT1H
X-Robots-Tag:noindex
X-PUBLISHED-TTL:PT1H
BEGIN:VTIMEZONE
TZID:Europe/Madrid
BEGIN:DAYLIGHT
TZOFFSETFROM:+0100
TZOFFSETTO:+0200
TZNAME:CEST
DTSTART:20250330T010000
END:DAYLIGHT
BEGIN:STANDARD
TZOFFSETFROM:+0200
TZOFFSETTO:+0100
TZNAME:CET
DTSTART:20251026T010000
END:STANDARD
BEGIN:DAYLIGHT
TZOFFSETFROM:+0100
TZOFFSETTO:+0200
TZNAME:CEST
DTSTART:20260329T010000
END:DAYLIGHT
BEGIN:STANDARD
TZOFFSETFROM:+0200
TZOFFSETTO:+0100
TZNAME:CET
DTSTART:20261025T010000
END:STANDARD
BEGIN:DAYLIGHT
TZOFFSETFROM:+0100
TZOFFSETTO:+0200
TZNAME:CEST
DTSTART:20270328T010000
END:DAYLIGHT
BEGIN:STANDARD
TZOFFSETFROM:+0200
TZOFFSETTO:+0100
TZNAME:CET
DTSTART:20271031T010000
END:STANDARD
END:VTIMEZONE
BEGIN:VEVENT
DTSTART;TZID=Europe/Madrid:20260212T190000
DTEND;TZID=Europe/Madrid:20260212T200000
DTSTAMP:20260423T145629
CREATED:20260205T141947Z
LAST-MODIFIED:20260205T142048Z
UID:10000933-1770922800-1770926400@www.xixona.es
SUMMARY:Presentación de libro
DESCRIPTION:Para tranquilizar su conciencia agitada. Religiosas secularizadas valencianas en el Trienio Liberal (1820-1823) es el título del libro del historiador\, catedrático e investigador Josep Vicent Ferre Domínguez\, que se presentará el próximo jueves 12 de febrero\, a las 19.00 h\, en la Casa de Cultura. La obra es el resultado de más de una década de investigación rigurosa sobre la vida de las religiosas que abandonaron los conventos durante aquel convulso periodo histórico\, con especial mención a los casos de Xixona. Esta obra llena un vacío historiográfico y al mismo tiempo abre nuevas perspectivas para explicar el lugar de las mujeres en la organización eclesiástica española en la época de la revolución liberal.
URL:https://www.xixona.es/event/presentacion-de-libro-3/
LOCATION:Casa de Cultura
CATEGORIES:Actividad
ATTACH;FMTTYPE=image/jpeg:https://www.xixona.es/wp-content/uploads/2026/02/Llibre-monges.jpg
END:VEVENT
END:VCALENDAR